Workbook

Sheet A. SAŽETAK
A1: GODIŠNJI IZVJEŠTAJ O IZVRŠENJU FINANCIJSKOG PLANA FILOZOFSKOGA FAKULTETA U RIJECI ZA 2025. GODINU
A3: I. OPĆI DIO
A5: SAŽETAK RAČUNA PRIHODA I RASHODA I RAČUNA FINANCIRANJA
A7: SAŽETAK RAČUNA PRIHODA I RASHODA
A8: BROJČANA OZNAKA I NAZIV | F8: OSTVARENJE/IZVRŠENJE 1.-12.2024. | G8: IZVORNI PLAN ILI REBALANS 2025.* | H8: TEKUĆI PLAN 2025.* | I8: OSTVARENJE/IZVRŠENJE 1.-12.2025. | J8: INDEKS | K8: INDEKS**
A9: 1 | F9: 2 | G9: 3 | H9: 4 | I9: 5 | J9: 6=5/2*100 | K9: 7=5/4*100
A10: 6 PRIHODI POSLOVANJA | F10: =+'A.1 PRIHODI EK'!C11 -> 10560762 | G10: =+'A.1 PRIHODI EK'!D10 -> 10111940 | H10: =+'A.1 PRIHODI EK'!E10 -> 11549505 | I10: =+'A.1 PRIHODI EK'!F11 -> 11152929 | J10: =+I10/F10*100 -> 105.60724 | K10: =+I10/H10*100 -> 96.566297
A11: 7 PRIHODI OD PRODAJE NEFINANCIJSKE IMOVINE
A12: PRIHODI UKUPNO | F12: =F10+F11 -> 10560762 | G12: =G10+G11 -> 10111940 | H12: =H10+H11 -> 11549505 | I12: =I10+I11 -> 11152929 | J12: =+I12/F12*100 -> 105.60724 | K12: =+I12/H12*100 -> 96.566297
A13: 3 RASHODI POSLOVANJA | F13: =+'A.1 RASHODI EK'!C10 -> 10500752 | G13: =+'A.1 RASHODI EK'!D10 -> 10006514 | H13: =+'A.1 RASHODI EK'!E10 -> 11195930 | I13: =+'A.1 RASHODI EK'!F10 -> 12240111 | J13: =+I13/F13*100 -> 116.56414 | K13: =+I13/H13*100 -> 109.32643
A14: 4 RASHODI ZA NABAVU NEFINANCIJSKE IMOVINE | F14: =+'A.1 RASHODI EK'!C113 -> 54802.31 | G14: =+'A.1 RASHODI EK'!D113 -> 68595 | H14: =+'A.1 RASHODI EK'!E113 -> 107999 | I14: =+'A.1 RASHODI EK'!F113 -> 106671.59 | J14: =+I14/F14*100 -> 194.64798 | K14: =+I14/H14*100 -> 98.770905
A15: RASHODI UKUPNO | F15: =F13+F14 -> 10555554 | G15: =G13+G14 -> 10075109 | H15: =H13+H14 -> 11303929 | I15: =I13+I14 -> 12346782 | J15: =+I15/F15*100 -> 116.96953 | K15: =+I15/H15*100 -> 109.22558
A16: RAZLIKA - VIŠAK / MANJAK | F16: =F12-F15 -> 5207.78 | G16: =G12-G15 -> 36831 | H16: =H12-H15 -> 245576 | I16: =I12-I15 -> -1193853.1
A18: SAŽETAK RAČUNA FINANCIRANJA
A19: BROJČANA OZNAKA I NAZIV | F19: OSTVARENJE/IZVRŠENJE 1.-12.2024. | G19: IZVORNI PLAN ILI REBALANS 2025.* | H19: TEKUĆI PLAN 2025.* | I19: OSTVARENJE/IZVRŠENJE 1.-12.2025. | J19: INDEKS | K19: INDEKS**
A20: 1 | F20: 2 | G20: 3 | H20: 4 | I20: 5 | J20: 6=5/2*100 | K20: 7=5/4*100
A21: 8 PRIMICI OD FINANCIJSKE IMOVINE I ZADUŽIVANJA | F21: =+'B.1 RAČUN FINANC EK'!C10 -> 0 | G21: =+'B.1 RAČUN FINANC EK'!D10 -> 0 | H21: =+'B.1 RAČUN FINANC EK'!E10 -> 0 | I21: =+'B.1 RAČUN FINANC EK'!F10 -> 0
A22: 5 IZDACI ZA FINANCIJSKU IMOVINU I OTPLATE ZAJMOVA | F22: =+'B.1 RAČUN FINANC EK'!C17 -> 0 | G22: =+'B.1 RAČUN FINANC EK'!D17 -> 0 | H22: =+'B.1 RAČUN FINANC EK'!E17 -> 0 | I22: =+'B.1 RAČUN FINANC EK'!F17 -> 0
A23: RAZLIKA PRIMITAKA I IZDATAKA | F23: =F21-F22 -> 0 | G23: =G21-G22 -> 0 | H23: =H21-H22 -> 0 | I23: =I21-I22 -> 0
A24: PRIJENOS SREDSTAVA IZ PRETHODNE GODINE | F24: 721823.22 | G24: 490000 | H24: 490000 | I24: 893251.26
A25: PRIJENOS SREDSTAVA U SLJEDEĆE RAZDOBLJE | F25: -727031 | G25: -526831 | H25: -735576 | I25: 300601.86
A26: NETO FINANCIRANJE | F26: =+F23+F24+F25 -> -5207.78 | G26: =+G23+G24+G25 -> -36831 | H26: =+H23+H24+H25 -> -245576 | I26: =+I23+I24+I25 -> 1193853.1
A27: VIŠAK/MANJAK + NETO FINANCIRANJE | F27: =+F16+F26 -> 1.1641532e-09 | G27: =+G16+G26 -> 0 | H27: =+H16+H26 -> 0 | I27: =+I16+I26 -> 0
A30: Napomena : Iznosi u stupcima "OSTVARENJE/IZVRŠENJE 1.-12.2024." i "OSTVARENJE/IZVRŠENJE 1.-12. 2025." iskazuju se na dvije decimale.
A31: * Opći i posebni dio godišnjeg izvještaja o izvršenju proračuna sadrži samo izvorni plan ako od donošenja proračuna nije bilo izmjena i dopuna niti izvršenih preraspodjela odnosno izvorni plan i tekući plan ako je od donošenja proračuna bilo naknadno izvršenih preraspodjela. Opći i posebni dio godišnjeg izvještaja o izvršenju proračuna sadrži rebalans ako je od donošenja proračuna bilo izmjena i dopuna, odnosno rebalans i tekući plan ako je od izmjena i dopuna proračuna bilo naknadno izvršenih preraspodjela.
A33: ** Ako Opći i Posebni dio godišnjeg izvještaja ne sadrži "TEKUĆI PLAN 2025.", "INDEKS"("OSTVARENJE/IZVRŠENJE 1.-12.2025."/"TEKUĆI PLAN 2025.") iskazuje se kao "OSTVARENJE/IZVRŠENJE 1.-12.2025."/"IZVORNI PLAN 2025." ODNOSNO "REBALANS 2025."

Sheet A.1 PRIHODI EK
A1: I. OPĆI DIO
A3: RAČUN PRIHODA I RASHODA
A5: IZVJEŠTAJ O PRIHODIMA I RASHODIMA PREMA EKONOMSKOJ KLASIFIKACIJI
A7: BROJČANA OZNAKA I NAZIV | C7: OSTVARENJE/IZVRŠENJE 01.2024. - 12.2024. | D7: IZVORNI PLAN ILI REBALANS 2025. | E7: TEKUĆI PLAN 2025. | F7: OSTVARENJE/IZVRŠENJE 01.2025. - 12.2025. | G7: INDEKS (5)/(2) | H7: INDEKS (5)/(4)
A8: 1 | C8: 2 | D8: 3 | E8: 4.3333333 | F8: 5.0833333 | G8: 6 | H8: 7
A9: Prihodi i rashodi | C9: EUR | D9: EUR | E9: EUR | F9: EUR
B10: UKUPNI PRIHODI | C10: =+C11+C72 -> 10560762 | D10: =+D11+D72 -> 10111940 | E10: =+E11+E72 -> 11549505 | F10: =+F11+F72 -> 11152929 | G10: =+F10/C10*100 -> 105.60724 | H10: =+F10/E10*100 -> 96.566297
A11: 6 | B11: Prihodi poslovanja | C11: =+C12+C36+C47+C53+C60+C67 -> 10560762 | D11: =+D12+D36+D47+D53+D60+D67 -> 10111940 | E11: =+E12+E36+E47+E53+E60+E67 -> 11549505 | F11: =+F12+F36+F47+F53+F60+F67 -> 11152929 | G11: =+F11/C11*100 -> 105.60724 | H11: =+F11/E11*100 -> 96.566297
A12: 63 | B12: Pomoći iz inozemstva (darovnice) i od subjekata unutar općeg proračuna | C12: =+C13+C15+C22+C25+C28+C31+C20 -> 1221512 | D12: 579432 | E12: 1132699 | F12: =+F13+F15+F22+F25+F28+F31+F20 -> 736208.45 | G12: =+F12/C12*100 -> 60.27026 | H12: =+F12/E12*100 -> 64.995948
A13: 631 | B13: Pomoći od inozemnih vlada | C13: =+C14 -> 18890.25 | F13: =+F14 -> 19695 | G13: =+F13/C13*100 -> 104.26013
A14: 6311 | B14: Tekuće pomoći od inozemnih vlada | C14: 18890.25 | F14: 19695 | G14: =+F14/C14*100 -> 104.26013
A15: 632 | B15: Pomoći od međunarodnih organizacija te institucija i tijela EU | C15: =SUM(C16:C19) -> 459053.37 | F15: =SUM(F16:F19) -> 271126.1 | G15: =+F15/C15*100 -> 59.062
A16: 6321 | B16: Tekuće pomoći od međunarodnih organizacija | C16: 150893.76 | F16: 267413.1 | G16: =+F16/C16*100 -> 177.21946
A17: 6322 | B17: Kapitalne pomoći od međunarodnih organizacija
A18: 6323 | B18: Tekuće pomoći od institucija i tijela EU | C18: 308159.61 | F18: 3713 | G18: =+F18/C18*100 -> 1.2048951
A19: 6324 | B19: Kapitalne pomoći od institucija i tijela EU
A20: 633 | B20: Pomoći proračunu iz drugih proračuna i izvanproračunskim korisnicima | C20: =+C21 -> 500 | F20: =+F21 -> 0
A21: 6331 | B21: Tekuće pomoći proračunu iz drugih proračuna i izvanproračunskim korisnicima | C21: 500
A22: 634 | B22: Pomoći od ostalih subjekata unutar općeg proračuna
A23: 6341 | B23: Tekuće pomoći od ostalih subjekata unutar općeg proračuna
A24: 6342 | B24: Kapitalne pomoći od ostalih subjekata unutar općeg proračuna
A25: 636 | B25: Pomoći proračunskim korisnicima iz proračuna koji im nije nadležan | C25: =+C26+C27 -> 13500 | F25: =+F26+F27 -> 12580 | G25: =+F25/C25*100 -> 93.185185
A26: 6361 | B26: Tekuće pomoći proračunskim korisnicima iz proračuna koji im nije nadležan | C26: 13500 | F26: 12580 | G26: =+F26/C26*100 -> 93.185185
A27: 6362 | B27: Kapitalne pomoći proračunskim korisnicima iz proračuna koji im nije nadležan
A28: 638 | B28: Pomoći iz državnog proračuna temeljem prijenosa EU sredstava | C28: =+C29+C30 -> 0
A29: 6381 | B29: Tekuće pomoći iz državnog proračuna temeljem prijenosa EU sredstava
A30: 6382 | B30: Kapitalne pomoći iz državnog proračuna temeljem prijenosa EU sredstava
A31: 639 | B31: Prijenosi između proračunskih korisnika istog proračuna | C31: =SUM(C32:C35) -> 729568.36 | F31: =SUM(F32:F35) -> 432807.35 | G31: =+F31/C31*100 -> 59.323755
A32: 6391 | B32: Tekući prijenosi između proračunskih korisnika istog proračuna | C32: 593121.36 | F32: 420097.35 | G32: =+F32/C32*100 -> 70.828228
A33: 6392 | B33: Kapitalni prijenosi između proračunskih korisnika istog proračuna | G33: =+F33/C33*100 -> #DIV/0!
A34: 6393 | B34: Tekući prijenosi između proračunskih korisnika istog proračuna temeljem prijenosa EU sredstava | C34: 136447 | F34: 12710
A35: 6394 | B35: Kapitalni prijenosi između proračunskih korisnika istog proračuna temeljem prijenosa EU sredstava
A36: 64 | B36: Prihodi od imovine | C36: =+C37+C44 -> 6.32 | D36: 0 | E36: 0 | F36: =+F37+F44 -> 2541.38 | G36: =+F36/C36*100 -> 40211.709
A37: 641 | B37: Prihodi od financijske imovine | C37: =SUM(C38:C43) -> 6.32 | F37: =SUM(F38:F43) -> 2541.38 | G37: =+F37/C37*100 -> 40211.709
A38: 6413 | B38: Kamate na oročena sredstva i depozite po viđenju | C38: 6.32 | F38: 5.13 | G38: =+F38/C38*100 -> 81.170886
A39: 6414 | B39: Prihodi od zateznih kamata
A40: 6415 | B40: Prihodi od pozitivnih tečajnih razlika i razlika zbog primjene valutne klauzule | F40: 2536.25
A41: 6416 | B41: Prihodi od dividendi
A42: 6417 | B42: Prihodi iz dobiti trgovačkih društava, kreditnih i ostalih financijskih institucija po posebnim propisima
A43: 6419 | B43: Ostali prihodi od financijske imovine
...

Sheet A.1 RASHODI EK
A1: I. OPĆI DIO
A3: RAČUN PRIHODA I RASHODA
A5: IZVJEŠTAJ O PRIHODIMA I RASHODIMA PREMA EKONOMSKOJ KLASIFIKACIJI
A7: BROJČANA OZNAKA I NAZIV | C7: OSTVARENJE/IZVRŠENJE 01.2024. - 12.2024. | D7: IZVORNI PLAN ILI REBALANS 2025. | E7: TEKUĆI PLAN 2025. | F7: OSTVARENJE/IZVRŠENJE 01.2025. - 12.2025. | G7: INDEKS (5)/(2) | H7: INDEKS (5)/(4)
A8: 1 | C8: 2 | D8: 3 | E8: 4.3333333 | F8: 5.0833333 | G8: 6 | H8: 7
B9: UKUPNI RASHODI | C9: =+C10+C113 -> 10555554 | D9: =+D10+D113 -> 10075109 | E9: =+E10+E113 -> 11303929 | F9: =+F10+F113 -> 12346782 | G9: =+F9/C9*100 -> 116.96953 | H9: =+F9/D9*100 -> 122.54738
A10: 3 | B10: Rashodi poslovanja | C10: =+C11++C23+C56+C65+C73+C90+C98 -> 10500752 | D10: =+D11++D23+D56+D65+D73+D90+D98 -> 10006514 | E10: =+E11++E23+E56+E65+E73+E90+E98 -> 11195930 | F10: =+F11++F23+F56+F65+F73+F90+F98 -> 12240111 | G10: =+F10/C10*100 -> 116.56414 | H10: =+F10/D10*100 -> 122.32143
A11: 31 | B11: Rashodi za zaposlene | C11: =+C12+C17+C19 -> 9127122.5 | D11: 8991691 | E11: 9939763 | F11: =+F12+F17+F19 -> 10803626 | G11: =+F11/C11*100 -> 118.36836 | H11: =+F11/D11*100 -> 120.15121
A12: 311 | B12: Plaće (Bruto) | C12: =SUM(C13:C16) -> 7662545.6 | F12: =SUM(F13:F16) -> 9063191.3 | G12: =+F12/C12*100 -> 118.27912
A13: 3111 | B13: Plaće za redovan rad | C13: 7662545.6 | F13: =9097834.32-34643 -> 9063191.3 | G13: =+F13/C13*100 -> 118.27912
A14: 3112 | B14: Plaće u naravi
A15: 3113 | B15: Plaće za prekovremeni rad
A16: 3114 | B16: Plaće za posebne uvjete rada
A17: 312 | B17: Ostali rashodi za zaposlene | C17: =+C18 -> 208014.54 | F17: =+F18 -> 240725.61 | G17: =+F17/C17*100 -> 115.72538
A18: 3121 | B18: Ostali rashodi za zaposlene | C18: 208014.54 | F18: 240725.61 | G18: =+F18/C18*100 -> 115.72538
A19: 313 | B19: Doprinosi na plaće | C19: =SUM(C20:C22) -> 1256562.4 | F19: =SUM(F20:F22) -> 1499708.6 | G19: =+F19/C19*100 -> 119.35012
A20: 3131 | B20: Doprinosi za mirovinsko osiguranje
A21: 3132 | B21: Doprinosi za obvezno zdravstveno osiguranje | C21: 1256562.4 | F21: 1499708.6 | G21: =+F21/C21*100 -> 119.35012
A22: 3133 | B22: Doprinosi za obvezno osiguranje u slučaju nezaposlenosti
A23: 32 | B23: Materijalni rashodi | C23: =+C24+C29+C36+C46+C48 -> 1301540.1 | D23: 905323 | E23: 1142449 | F23: =+F24+F29+F36+F46+F48 -> 1324013.8 | G23: =+F23/C23*100 -> 101.7267 | H23: =+F23/D23*100 -> 146.24767
A24: 321 | B24: Naknade troškova zaposlenima | C24: =SUM(C25:C28) -> 393562.3 | F24: =SUM(F25:F28) -> 430770.44 | G24: =+F24/C24*100 -> 109.45419
A25: 3211 | B25: Službena putovanja | C25: 253954.21 | F25: 270867.07 | G25: =+F25/C25*100 -> 106.65981
A26: 3212 | B26: Naknade za prijevoz, za rad na terenu i odvojeni život | C26: 98620.99 | F26: 107510.39 | G26: =+F26/C26*100 -> 109.0137
A27: 3213 | B27: Stručno usavršavanje zaposlenika | C27: 40987.1 | F27: 51113.26 | G27: =+F27/C27*100 -> 124.70572
A28: 3214 | B28: Ostale naknade troškova zaposlenima | F28: 1279.72
A29: 322 | B29: Rashodi za materijal i energiju | C29: =SUM(C30:C35) -> 170184.51 | F29: =SUM(F30:F35) -> 194912.63 | G29: =+F29/C29*100 -> 114.53018
A30: 3221 | B30: Uredski materijal i ostali materijalni rashodi | C30: 30011.24 | F30: 36669.95 | G30: =+F30/C30*100 -> 122.18739
A31: 3222 | B31: Materijal i sirovine | C31: 1952.19 | F31: 1162.23 | G31: =+F31/C31*100 -> 59.534676
A32: 3223 | B32: Energija | C32: 123060.22 | F32: =144224.22+3114 -> 147338.22 | G32: =+F32/C32*100 -> 119.72855
A33: 3224 | B33: Materijal i dijelovi za tekuće i investicijsko održavanje | C33: 9586.34 | F33: 6913.77 | G33: =+F33/C33*100 -> 72.12106
A34: 3225 | B34: Sitni inventar i auto gume | C34: 5214.58 | F34: 2588.61 | G34: =+F34/C34*100 -> 49.641774
A35: 3227 | B35: Službena, radna i zaštitna odjeća i obuća | C35: 359.94 | F35: 239.85 | G35: =+F35/C35*100 -> 66.636106
A36: 323 | B36: Rashodi za usluge | C36: =SUM(C37:C45) -> 591758.77 | F36: =SUM(F37:F45) -> 582107.06 | G36: =+F36/C36*100 -> 98.368979
A37: 3231 | B37: Usluge telefona, pošte i prijevoza | C37: 24311.44 | F37: 30527.72 | G37: =+F37/C37*100 -> 125.56936
A38: 3232 | B38: Usluge tekućeg i investicijskog održavanja | C38: 62740.19 | F38: 37383.17 | G38: =+F38/C38*100 -> 59.584088
A39: 3233 | B39: Usluge promidžbe i informiranja | C39: 43844.7 | F39: 21313.48 | G39: =+F39/C39*100 -> 48.611303
A40: 3234 | B40: Komunalne usluge | C40: 35339.35 | F40: 39101.79 | G40: =+F40/C40*100 -> 110.6466
A41: 3235 | B41: Zakupnine i najamnine | C41: 8714.83 | F41: 12871.03 | G41: =+F41/C41*100 -> 147.69112
A42: 3236 | B42: Zdravstvene i veterinarske usluge | C42: 10022.73 | F42: 11427.06 | G42: =+F42/C42*100 -> 114.01145
A43: 3237 | B43: Intelektualne i osobne usluge | C43: 288045.87 | F43: 300099.07 | G43: =+F43/C43*100 -> 104.18447
...

Sheet A.2 PRIHODI I RASHODI IF
A5: IZVJEŠTAJ O PRIHODIMA I RASHODIMA PREMA IZVORIMA FINANCIRANJA
A7: BROJČANA OZNAKA I NAZIV | C7: OSTVARENJE/IZVRŠENJE 01.2024. - 12.2024. | D7: IZVORNI PLAN ILI REBALANS 2025. | E7: TEKUĆI PLAN 2025. | F7: OSTVARENJE/IZVRŠENJE 01.2025. - 12.2025. | G7: INDEKS (5)/(2) | H7: INDEKS (5)/(4)
A8: 1 | C8: 2 | D8: 3 | E8: 4.3333333 | F8: 5.0833333 | G8: 6 | H8: 7
A9: Prihodi i rashodi | C9: EUR | D9: EUR | E9: EUR | F9: EUR
A10: PRIHODI | C10: =+C11+C14+C16+C18+C24+C26 -> 10560762 | D10: =+D11+D14+D16+D18+D24+D26 -> 10111940 | E10: =+E11+E14+E16+E18+E24+E26 -> 11549505 | F10: =+F11+F14+F16+F18+F24+F26 -> 11152929 | G10: =+F10/C10*100 -> 105.60724 | H10: =+F10/E10*100 -> 96.566297
A11: 1 | B11: Opći prihodi i primici | C11: =+C12 -> 8888636.3 | D11: =+D12 -> 9182508 | E11: =+E12 -> 9944534 | F11: =+F12 -> 9840702.4 | G11: =+F11/C11*100 -> 110.71105 | H11: =+F11/E11*100 -> 98.955893
A12: 11 | B12: Opći prihodi i primici | C12: 8888636.3 | D12: 9182508 | E12: 9944534 | F12: =9932974.17-92271.74 -> 9840702.4 | G12: =+F12/C12*100 -> 110.71105 | H12: =+F12/E12*100 -> 98.955893
A13: 12 | B13: Sredstva učešća za pomoći
A14: 3 | B14: Vlastiti prihodi | C14: =+C15 -> 98793.74 | D14: =+D15 -> 50000 | E14: =+E15 -> 50000 | F14: =+F15 -> 22060.91 | G14: =+F14/C14*100 -> 22.330271 | H14: =+F14/E14*100 -> 44.12182
A15: 31 | B15: Vlastiti prihodi | C15: 98793.74 | D15: 50000 | E15: 50000 | F15: 22060.91 | G15: =+F15/C15*100 -> 22.330271 | H15: =+F15/E15*100 -> 44.12182
A16: 4 | B16: Prihodi za posebne namjene | C16: =+C17 -> 351813.56 | D16: =+D17 -> 300000 | E16: =+E17 -> 330000 | F16: =+F17 -> 461686.82 | G16: =+F16/C16*100 -> 131.23054 | H16: =+F16/E16*100 -> 139.9051
A17: 43 | B17: Ostali prihodi za posebne namjene | C17: 351813.56 | D17: 300000 | E17: 330000 | F17: =459144.44+2542.38 -> 461686.82 | G17: =+F17/C17*100 -> 131.23054 | H17: =+F17/E17*100 -> 139.9051
A18: 5 | B18: Pomoći | C18: =SUM(C19:C23) -> 1220518.3 | D18: =SUM(D19:D23) -> 579432 | E18: =SUM(E19:E23) -> 1224971 | F18: =SUM(F19:F23) -> 828479.19 | G18: =+F18/C18*100 -> 67.879293 | H18: =+F18/E18*100 -> 67.632555
A19: 51 | B19: Pomoći EU | C19: 305857.91 | D19: 280000 | E19: 591000 | F19: 3713 | G19: =+F19/C19*100 -> 1.2139624 | H19: =+F19/E19*100 -> 0.62825719
A20: 52 | B20: Ostale pomoći | C20: =917154.67-2494.28 -> 914660.39 | D20: 299432 | E20: 541699 | F20: =432807.35+287107.1+12580 -> 732494.45 | G20: =+F20/C20*100 -> 80.083762 | H20: =+F20/E20*100 -> 135.22167
A21: 56 | B21: Fondovi EU
A22: 57 | B22: Ostali programi EU
A23: 58 | B23: Instrumenti EU nove generacije | E23: 92272 | F23: 92271.74
A24: 6 | B24: Donacije | C24: =+C25 -> 1000 | F24: =+F25 -> 0 | G24: =+F24/C24*100 -> 0
A25: 61 | B25: Donacije | C25: 1000 | G25: =+F25/C25*100 -> 0
A26: 7 | B26: Prihodi od nefin. imovine i nadoknade štete s osnova osig. | C26: =+C27 -> 0
A27: 71 | B27: Prihodi od nefin. imovine i nadoknade štete s osnova osig.
A28: RASHODI | C28: =+C29+C32+C34+C36+C42+C44+C46 -> 10555554 | D28: =+D29+D32+D34+D36+D42+D44+D46 -> 10075109 | E28: =+E29+E32+E34+E36+E42+E44+E46 -> 11303929 | F28: =+F29+F32+F34+F36+F42+F44+F46 -> 12346781 | G28: =+F28/C28*100 -> 116.96952 | H28: =+F28/E28*100 -> 109.22558
A29: 1 | B29: Opći prihodi i primici | C29: =+C30+C31 -> 9246209.1 | D29: =+D30+D31 -> 9182508 | E29: =+E30+E31 -> 9944534 | F29: =+F30+F31 -> 10613046 | G29: =+F29/C29*100 -> 114.78267 | H29: =+F29/E29*100 -> 106.72241
A30: 11 | B30: Opći prihodi i primici | C30: 9246209.1 | D30: 9182508 | E30: 9944534 | F30: 10613046 | G30: =+F30/C30*100 -> 114.78267 | H30: =+F30/E30*100 -> 106.72241
A31: 12 | B31: Sredstva učešća za pomoći
A32: 3 | B32: Vlastiti prihodi | C32: =+C33 -> 68407.32 | D32: =+D33 -> 44863 | E32: =+E33 -> 49825 | F32: =+F33 -> 97244.84 | G32: =+F32/C32*100 -> 142.15561 | H32: =+F32/E32*100 -> 195.17278
A33: 31 | B33: Vlastiti prihodi | C33: 68407.32 | D33: 44863 | E33: 49825 | F33: =133569.47+13675.37-50000 -> 97244.84 | G33: =+F33/C33*100 -> 142.15561 | H33: =+F33/E33*100 -> 195.17278
A34: 4 | B34: Prihodi za posebne namjene | C34: =+C35 -> 327101.33 | D34: =+D35 -> 246744 | E34: =+E35 -> 319620 | F34: =+F35 -> 548196.58 | G34: =+F34/C34*100 -> 167.59228 | H34: =+F34/E34*100 -> 171.51511
A35: 43 | B35: Ostali prihodi za posebne namjene | C35: 327101.33 | D35: 246744 | E35: 319620 | F35: =612816.1-64619.52 -> 548196.58 | G35: =+F35/C35*100 -> 167.59228 | H35: =+F35/E35*100 -> 171.51511
A36: 5 | B36: Pomoći | C36: =SUM(C37:C41) -> 913836.43 | D36: =SUM(D37:D41) -> 600994 | E36: =SUM(E37:E41) -> 989950 | F36: =SUM(F37:F41) -> 1088294.1 | G36: =+F36/C36*100 -> 119.09068 | H36: =+F36/E36*100 -> 109.93424
A37: 51 | B37: Pomoći EU | C37: 363628.03 | D37: 385100 | E37: 365645 | F37: 319498.19 | G37: =+F37/C37*100 -> 87.864016 | H37: =+F37/E37*100 -> 87.379341
A38: 52 | B38: Ostale pomoći | C38: 550208.4 | D38: 215894 | E38: 532033 | F38: 719290.63 | G38: =+F38/C38*100 -> 130.73058 | H38: =+F38/E38*100 -> 135.19662
A39: 56 | B39: Fondovi EU
A40: 57 | B40: Ostali programi EU | E40: 92272 | F40: 49505.23
A41: 58 | B41: Instrumenti EU nove generacije
A42: 6 | B42: Donacije
A43: 61 | B43: Donacije
A44: 7 | B44: Prihodi od nefin. imovine i nadoknade štete s osnova osig.
A45: 71 | B45: Prihodi od nefin. imovine i nadoknade štete s osnova osig.
...

Sheet A.3 RASHODI FUNKC
A5: IZVJEŠTAJ O RASHODIMA PREMA FUNKCIJSKOJ KLASIFIKACIJI
A7: BROJČANA OZNAKA I NAZIV | C7: OSTVARENJE/IZVRŠENJE 01.2024. - 12.2024. | D7: IZVORNI PLAN ILI REBALANS 2025. | E7: TEKUĆI PLAN 2025. | F7: OSTVARENJE/IZVRŠENJE 01.2025. - 12.2025. | G7: INDEKS (5)/(2) | H7: INDEKS (5)/(4)
A8: 1 | C8: 2 | D8: 3 | E8: 4.3333333 | F8: 5.0833333 | G8: 6 | H8: 7
A9: Rashodi | C9: EUR | D9: EUR | E9: EUR | F9: EUR
B10: UKUPNO RASHODI | C10: =+C11+C13 -> 10555554 | D10: =+D11+D13 -> 10075109 | E10: =+E11+E13 -> 11303929 | F10: =+F11+F13 -> 12346781 | G10: =+F10/C10*100 -> 116.96952 | H10: =+F10/E10*100 -> 109.22557
A11: 01 | B11: Opće javne usluge
A12: 015 | B12: Istraživanje i razvoj: Opće javne usluge
A13: 09 | B13: Obrazovanje | C13: =+C14 -> 10555554 | D13: =+D14 -> 10075109 | E13: =+E14 -> 11303929 | F13: =+F14 -> 12346781 | G13: =+F13/C13*100 -> 116.96952 | H13: =+F13/E13*100 -> 109.22557
A14: 094 | B14: Visoka naobrazba | C14: 10555554 | D14: 10075109 | E14: 11303929 | F14: 12346781 | G14: =+F14/C14*100 -> 116.96952 | H14: =+F14/E14*100 -> 109.22557

Sheet B.1 RAČUN FINANC EK
A5: IZVJEŠTAJ RAČUNA FINANCIRANJA PREMA EKONOMSKOJ KLASIFIKACIJI
A7: BROJČANA OZNAKA I NAZIV | C7: OSTVARENJE/IZVRŠENJE 01.2023. - 012.2023. | D7: IZVORNI PLAN ILI REBALANS 2024. | E7: TEKUĆI PLAN 2024. | F7: OSTVARENJE/IZVRŠENJE 01.2024. - 12.2024. | G7: INDEKS (5)/(2) | H7: INDEKS (5)/(4)
A8: 1 | C8: 2 | D8: 3 | E8: 4.3333333 | F8: 5.0833333 | G8: 6 | H8: 7
A9: Primici i izdaci | C9: EUR | D9: EUR | E9: EUR | F9: EUR
A10: 8 | B10: Primici od financijske imovine i zaduživanja | C10: =+C11+C14 -> 0 | D10: =+D11+D14 -> 0 | E10: =+E11+E14 -> 0 | F10: =+F11+F14 -> 0 | G10: =+F10/C10*100 -> #DIV/0! | H10: =+F10/E10*100 -> #DIV/0!
A11: 81 | B11: Primljeni povrati glavnica danih zajmova i depozita | C11: =+C12 -> 0 | F11: =+F12 -> 0 | G11: =+F11/C11*100 -> #DIV/0! | H11: =+F11/E11*100 -> #DIV/0!
A12: 818 | B12: Primici od povrata depozita i jamčevnih pologa | C12: =+C13 -> 0 | F12: =+F13 -> 0 | G12: =+F12/C12*100 -> #DIV/0! | H12: =+F12/E12*100 -> #DIV/0!
A13: 8181 | B13: Primici od povrata depozita od kreditnih i ostalih financijskih institucija - tuzemni | G13: =+F13/C13*100 -> #DIV/0! | H13: =+F13/E13*100 -> #DIV/0!
A14: 83 | B14: Primici od prodaje dionica i udjela u glavnici | C14: =+C15 -> 0 | F14: =+F15 -> 0 | G14: =+F14/C14*100 -> #DIV/0! | H14: =+F14/E14*100 -> #DIV/0!
A15: 833 | B15: Primici od prodaje dionica i udjela u glavnici kreditnih i ostalih financijskih institucija izvan javnog sektora | C15: =+C16 -> 0 | F15: =+F16 -> 0 | G15: =+F15/C15*100 -> #DIV/0! | H15: =+F15/E15*100 -> #DIV/0!
A16: 8331 | B16: Dionice i udjeli u glavnici tuzemnih kreditnih i ostalih financijskih institucija izvan javnog sektora | G16: =+F16/C16*100 -> #DIV/0! | H16: =+F16/E16*100 -> #DIV/0!
A17: 5 | B17: Izdaci za financijsku imovinu i otplate zajmova | C17: =+C18+C27+C32 -> 0 | D17: =+D18+D27+D32 -> 0 | E17: =+E18+E27+E32 -> 0 | F17: =+F18+F27+F32 -> 0 | G17: =+F17/C17*100 -> #DIV/0! | H17: =+F17/E17*100 -> #DIV/0!
A18: 51 | B18: Izdaci za dane zajmove i depozite | C18: =+C19+C22+C24 -> 0 | F18: =+F19+F22+F24 -> 0 | G18: =+F18/C18*100 -> #DIV/0! | H18: =+F18/E18*100 -> #DIV/0!
A19: 512 | B19: Izdaci za dane zajmove neprofitnim organizacijama, građanima i kućanstvima | C19: =+C20+C21 -> 0 | F19: =+F20+F21 -> 0 | G19: =+F19/C19*100 -> #DIV/0! | H19: =+F19/E19*100 -> #DIV/0!
A20: 5121 | B20: Dani zajmovi neprofitnim organizacijama, građanima i kućanstvima u tuzemstvu | G20: =+F20/C20*100 -> #DIV/0! | H20: =+F20/E20*100 -> #DIV/0!
A21: 5122 | B21: Dani zajmovi neprofitnim organizacijama, građanima i kućanstvima u inozemstvu | G21: =+F21/C21*100 -> #DIV/0! | H21: =+F21/E21*100 -> #DIV/0!
A22: 514 | B22: Izdaci za dane zajmove trgovačkim društvima u javnom sektoru | C22: =+C23 -> 0 | F22: =+F23 -> 0 | G22: =+F22/C22*100 -> #DIV/0! | H22: =+F22/E22*100 -> #DIV/0!
A23: 5141 | B23: Dani zajmovi trgovačkim društvima u javnom sektoru | G23: =+F23/C23*100 -> #DIV/0! | H23: =+F23/E23*100 -> #DIV/0!
A24: 518 | B24: Izdaci za depozite i jamčevne pologe | C24: =+C25+C26 -> 0 | F24: =+F25+F26 -> 0 | G24: =+F24/C24*100 -> #DIV/0! | H24: =+F24/E24*100 -> #DIV/0!
A25: 5181 | B25: Izdaci za depozite u kreditnim i ostalim financijskim institucijama - tuzemni | G25: =+F25/C25*100 -> #DIV/0! | H25: =+F25/E25*100 -> #DIV/0!
A26: 5183 | B26: Izdaci za jamčevne pologe | G26: =+F26/C26*100 -> #DIV/0! | H26: =+F26/E26*100 -> #DIV/0!
A27: 53 | B27: Izdaci za dionice i udjele u glavnici | C27: =+C28+C30 -> 0 | F27: =+F28+F30 -> 0 | G27: =+F27/C27*100 -> #DIV/0! | H27: =+F27/E27*100 -> #DIV/0!
A28: 532 | B28: Dionice i udjeli u glavnici trgovačkih društava u javnom sektoru | C28: =+C29 -> 0 | F28: =+F29 -> 0 | G28: =+F28/C28*100 -> #DIV/0! | H28: =+F28/E28*100 -> #DIV/0!
A29: 5321 | B29: Dionice i udjeli u glavnici trgovačkih društava u javnom sektoru | G29: =+F29/C29*100 -> #DIV/0! | H29: =+F29/E29*100 -> #DIV/0!
A30: 534 | B30: Dionice i udjeli u glavnici trgovačkih društava izvan javnog sektora | C30: =+C31 -> 0 | F30: =+F31 -> 0 | G30: =+F30/C30*100 -> #DIV/0! | H30: =+F30/E30*100 -> #DIV/0!
A31: 5341 | B31: Dionice i udjeli u glavnici tuzemnih trgovačkih društava izvan javnog sektora | G31: =+F31/C31*100 -> #DIV/0! | H31: =+F31/E31*100 -> #DIV/0!
A32: 54 | B32: Izdaci za otplatu glavnice primljenih kredita i zajmova | C32: =+C33+C35 -> 0 | F32: =+F33+F35 -> 0 | G32: =+F32/C32*100 -> #DIV/0! | H32: =+F32/E32*100 -> #DIV/0!
A33: 542 | B33: Otplata glavnice primljenih kredita i zajmova od kreditnih i ostalih financijskih institucija u javnom sektoru | C33: =+C34 -> 0 | F33: =+F34 -> 0 | G33: =+F33/C33*100 -> #DIV/0! | H33: =+F33/E33*100 -> #DIV/0!
A34: 5422 | B34: Otplata glavnice primljenih kredita od kreditnih institucija u javnom sektoru | G34: =+F34/C34*100 -> #DIV/0! | H34: =+F34/E34*100 -> #DIV/0!
A35: 544 | B35: Otplata glavnice primljenih kredita i zajmova od kreditnih i ostalih financijskih institucija izvan javnog sektora | C35: =+C36 -> 0 | F35: =+F36 -> 0 | G35: =+F35/C35*100 -> #DIV/0! | H35: =+F35/E35*100 -> #DIV/0!
A36: 5443 | B36: Otplata glavnice primljenih kredita od tuzemnih kreditnih institucija izvan javnog sektora | G36: =+F36/C36*100 -> #DIV/0! | H36: =+F36/E36*100 -> #DIV/0!

Sheet B.2 RAČUN FINANC IF
A5: IZVJEŠTAJ RAČUNA FINANCIRANJA PREMA IZVORIMA FINANCIRANJA
A7: BROJČANA OZNAKA I NAZIV | C7: OSTVARENJE/IZVRŠENJE 01.2023. - 012.2023. | D7: IZVORNI PLAN ILI REBALANS 2024. | E7: TEKUĆI PLAN 2024. | F7: OSTVARENJE/IZVRŠENJE 01.2024. - 12.2024. | G7: INDEKS (5)/(2) | H7: INDEKS (5)/(4)
A8: 1 | C8: 2 | D8: 3 | E8: 4.3333333 | F8: 5.0833333 | G8: 6 | H8: 7
A9: Primici i izdaci | C9: EUR | D9: EUR | E9: EUR | F9: EUR
A10: PRIMICI | C10: =+C11 -> 0 | D10: =+D11 -> 0 | E10: =+E11 -> 0 | F10: =+F11 -> 0 | G10: =+F10/C10*100 -> #DIV/0! | H10: =+F10/E10*100 -> #DIV/0!
A11: 4 | B11: Prihodi za posebne namjene | C11: =+C12 -> 0 | D11: =+D12 -> 0 | E11: =+E12 -> 0 | F11: =+F12 -> 0 | G11: =+F11/C11*100 -> #DIV/0! | H11: =+F11/E11*100 -> #DIV/0!
A12: 43 | B12: Ostali prihodi za posebne namjene | G12: =+F12/C12*100 -> #DIV/0! | H12: =+F12/E12*100 -> #DIV/0!
A13: IZDACI | C13: =+C14+C16+C18 -> 0 | D13: =+D14+D16+D18 -> 0 | E13: =+E14+E16+E18 -> 0 | F13: =+F14+F16+F18 -> 0 | G13: =+F13/C13*100 -> #DIV/0! | H13: =+F13/E13*100 -> #DIV/0!
A14: 3 | B14: Vlastiti prihodi | C14: =+C15 -> 0 | D14: =+D15 -> 0 | E14: =+E15 -> 0 | F14: =+F15 -> 0 | G14: =+F14/C14*100 -> #DIV/0! | H14: =+F14/E14*100 -> #DIV/0!
A15: 31 | B15: Vlastiti prihodi | G15: =+F15/C15*100 -> #DIV/0! | H15: =+F15/E15*100 -> #DIV/0!
A16: 4 | B16: Prihodi za posebne namjene | C16: =+C17 -> 0 | D16: =+D17 -> 0 | E16: =+E17 -> 0 | F16: =+F17 -> 0 | G16: =+F16/C16*100 -> #DIV/0! | H16: =+F16/E16*100 -> #DIV/0!
A17: 43 | B17: Ostali prihodi za posebne namjene | G17: =+F17/C17*100 -> #DIV/0! | H17: =+F17/E17*100 -> #DIV/0!
A18: 5 | B18: Pomoći | C18: =+C19 -> 0 | D18: =+D19 -> 0 | E18: =+E19 -> 0 | F18: =+F19 -> 0 | G18: =+F18/C18*100 -> #DIV/0! | H18: =+F18/E18*100 -> #DIV/0!
A19: 52 | B19: Ostale pomoći | G19: =+F19/C19*100 -> #DIV/0! | H19: =+F19/E19*100 -> #DIV/0!

Sheet Posebni dio
A2: BROJČANA OZNAKA PRORAČUNSKOG KORISNIKA: 22857 | B2: NAZIV PRORAČUNSKOG KORISNIKA: SVEUČILIŠTE U RIJECI, FILOZOFSKI FAKULTET | C2: PLAN ZA 2025. | D2: NOVI PLAN 2025. | E2: IZVRŠENJE 2025.
B3: UKUPNO IZVORI | C3: =SUM(C4:C16) -> 10075109 | D3: =SUM(D4:D16) -> 11303929 | E3: =SUM(E4:E16) -> 12346781
A4: 11 | B4: Opći prihodi i primici | C4: 9182508 | D4: 9944534 | E4: 10613046
A5: 12 | B5: Sredstva učešća za pomoći
A6: 31 | B6: Vlastiti prihodi | C6: 44863 | D6: 49825 | E6: 97244.84
A7: 43 | B7: Ostali prihodi za posebne namjene | C7: 246744 | D7: 319620 | E7: 548196.58
A8: 51 | B8: Pomoći EU | C8: 385100 | D8: 365645 | E8: 319498
A9: 52 | B9: Ostale pomoći | C9: 215894 | D9: 532033 | E9: 719291
A10: 61 | B10: Donacije
A11: 561 | B11: Europski socijalni fond (ESF)
A12: 581 | B12: Mehanizam za oporavak i otpornost | D12: 92272 | E12: 49505
A13: 5761 | B13: Fond solidarnosti Europske unije – potres
A14: 563 | B14: Europski fond za regionalni razvoj (ERDF)
A15: 61 | B15: Donacije
A16: 71 | B16: Prihodi od nefin. imovine i nadoknade štete s osnova osig.
B17: UKUPNO AKTIVNOSTI | C17: =C18+C23+C38+C41+C50+C59 -> 10075109 | D17: =D18+D23+D38+D41+D50+D59+D33+D47 -> 11303929 | E17: =E18+E23+E38+E41+E50+E59+E33 -> 12346781
A18: A621002 | B18: REDOVNA DJELATNOST SVEUČILIŠTA U RIJECI | C18: =C19 -> 8702335 | D18: =D19 -> 9442565 | E18: =E19 -> 10153490
A19: 11 | B19: Opći prihodi i primici | C19: =SUM(C20:C22) -> 8702335 | D19: =SUM(D20:D22) -> 9442565 | E19: =SUM(E20:E22) -> 10153490
A20: 31 | B20: Rashodi za zaposlene | C20: 8605881 | D20: 9329368 | E20: 10052536
A21: 32 | B21: Materijalni rashodi | C21: 96454 | D21: 113197 | E21: 100953.62
A22: 38 | B22: Ostali rashodi
A23: A622122 | B23: PROGRAMSKO FINANCIRANJE JAVNIH VISOKIH UČILIŠTA | C23: =C24 -> 439080 | D23: =D24 -> 448534 | E23: =+E24+E33 -> 400173.23
A24: 11 | B24: Opći prihodi i primici | C24: =SUM(C25:C32) -> 439080 | D24: =SUM(D25:D32) -> 448534 | E24: =SUM(E25:E32) -> 350668
A25: 31 | B25: Rashodi za zaposlene | D25: 10000 | E25: 11767
A26: 32 | B26: Materijalni rashodi | C26: 423500 | D26: 422954 | E26: =83947+115472+46232+88235+4992 -> 338878
A27: 34 | B27: Financijski rashodi | C27: 2000 | D27: 2000
A28: 37 | B28: Naknade građanima i kućanstvima na temelju osiguranja i druge naknade
A29: 38 | B29: Ostali rashodi
A30: 41 | B30: Rashodi za nabavu neproizvedene dugotrajne imovine | C30: 10000 | D30: 10000
A31: 42 | B31: Rashodi za nabavu proizvedene dugotrajne imovine | C31: 3580 | D31: 3580 | E31: 23
A32: 45 | B32: Rashodi za dodatna ulaganja na nefinancijskoj imovini
A33: A622122 | B33: PROGRAMSKO FINANCIRANJE JAVNIH VISOKIH UČILIŠTA | C33: =C34 -> 0 | D33: =D34 -> 92272 | E33: =E34 -> 49505.23
A34: 581 | B34: Mehanizam za oporavak i otpornost | D34: =+D35+D36+D37 -> 92272 | E34: =+E35+E36+E37 -> 49505.23
A35: 32 | B35: Materijalni rashodi | D35: 52868 | E35: =14272.78+75+59.9+272.8+416+421.77+75+720.05+52.8+132.78+0.9 -> 16499.78
A36: 41 | B36: Rashodi za nabavu neproizvedene dugotrajne imovine | D36: 2722
A37: 42 | B37: Rashodi za nabavu proizvedene dugotrajne imovine | D37: 36682 | E37: =32910+95.45 -> 33005.45
A38: A621038 | B38: PROGRAMI VJEŽBAONICA VISOKIH UČILIŠTA | C38: =+C39 -> 41093 | D38: =+D39 -> 52392 | E38: =+E39 -> 47557
A39: 11 | B39: Opći prihodi i primici | C39: =C40 -> 41093 | D39: =D40 -> 52392 | E39: =E40 -> 47557
A40: 32 | B40: Materijalni rashodi | C40: 41093 | D40: 52392 | E40: 47557
A41: A621181 | B41: PRAVOMOĆNE SUDSKE PRESUDE | C41: =SUM(C43:C45) -> 0 | D41: =SUM(D43:D45) -> 0 | E41: =SUM(E43:E45) -> 11826.13
...
