Workbook

Sheet A. SAŽETAK
A1: GODIŠNJI IZVJEŠTAJ O IZVRŠENJU FINANCIJSKOG PLANA FILOZOFSKOGA FAKULTETA U RIJECI ZA 2025. GODINU
A3: I. OPĆI DIO
A5: SAŽETAK RAČUNA PRIHODA I RASHODA I RAČUNA FINANCIRANJA
A7: SAŽETAK RAČUNA PRIHODA I RASHODA
A8: BROJČANA OZNAKA I NAZIV | F8: OSTVARENJE/IZVRŠENJE 1.-12.2024. | G8: IZVORNI PLAN ILI REBALANS 2025.* | H8: TEKUĆI PLAN 2025.* | I8: OSTVARENJE/IZVRŠENJE 1.-12.2025. | J8: INDEKS | K8: INDEKS**
A9: 1 | F9: 2 | G9: 3 | H9: 4 | I9: 5 | J9: 6=5/2*100 | K9: 7=5/4*100
A10: 6 PRIHODI POSLOVANJA | F10: =+'A.1 PRIHODI EK'!C11 -> 10560762 | G10: =+'A.1 PRIHODI EK'!D10 -> 10111940 | H10: =+'A.1 PRIHODI EK'!E10 -> 11549505 | I10: =+'A.1 PRIHODI EK'!F11 -> 11152929 | J10: =+I10/F10*100 -> 105.60724 | K10: =+I10/H10*100 -> 96.566297
A11: 7 PRIHODI OD PRODAJE NEFINANCIJSKE IMOVINE
A12: PRIHODI UKUPNO | F12: =F10+F11 -> 10560762 | G12: =G10+G11 -> 10111940 | H12: =H10+H11 -> 11549505 | I12: =I10+I11 -> 11152929 | J12: =+I12/F12*100 -> 105.60724 | K12: =+I12/H12*100 -> 96.566297
A13: 3 RASHODI POSLOVANJA | F13: =+'A.1 RASHODI EK'!C10 -> 10500752 | G13: =+'A.1 RASHODI EK'!D10 -> 10006514 | H13: =+'A.1 RASHODI EK'!E10 -> 11195930 | I13: =+'A.1 RASHODI EK'!F10 -> 12240111 | J13: =+I13/F13*100 -> 116.56414 | K13: =+I13/H13*100 -> 109.32643
A14: 4 RASHODI ZA NABAVU NEFINANCIJSKE IMOVINE | F14: =+'A.1 RASHODI EK'!C113 -> 54802.31 | G14: =+'A.1 RASHODI EK'!D113 -> 68595 | H14: =+'A.1 RASHODI EK'!E113 -> 107999 | I14: =+'A.1 RASHODI EK'!F113 -> 106671.59 | J14: =+I14/F14*100 -> 194.64798 | K14: =+I14/H14*100 -> 98.770905
A15: RASHODI UKUPNO | F15: =F13+F14 -> 10555554 | G15: =G13+G14 -> 10075109 | H15: =H13+H14 -> 11303929 | I15: =I13+I14 -> 12346782 | J15: =+I15/F15*100 -> 116.96953 | K15: =+I15/H15*100 -> 109.22558
A16: RAZLIKA - VIŠAK / MANJAK | F16: =F12-F15 -> 5207.78 | G16: =G12-G15 -> 36831 | H16: =H12-H15 -> 245576 | I16: =I12-I15 -> -1193853.1
A18: SAŽETAK RAČUNA FINANCIRANJA
A19: BROJČANA OZNAKA I NAZIV | F19: OSTVARENJE/IZVRŠENJE 1.-12.2024. | G19: IZVORNI PLAN ILI REBALANS 2025.* | H19: TEKUĆI PLAN 2025.* | I19: OSTVARENJE/IZVRŠENJE 1.-12.2025. | J19: INDEKS | K19: INDEKS**
A20: 1 | F20: 2 | G20: 3 | H20: 4 | I20: 5 | J20: 6=5/2*100 | K20: 7=5/4*100
A21: 8 PRIMICI OD FINANCIJSKE IMOVINE I ZADUŽIVANJA | F21: =+'B.1 RAČUN FINANC EK'!C10 -> 0 | G21: =+'B.1 RAČUN FINANC EK'!D10 -> 0 | H21: =+'B.1 RAČUN FINANC EK'!E10 -> 0 | I21: =+'B.1 RAČUN FINANC EK'!F10 -> 0
A22: 5 IZDACI ZA FINANCIJSKU IMOVINU I OTPLATE ZAJMOVA | F22: =+'B.1 RAČUN FINANC EK'!C17 -> 0 | G22: =+'B.1 RAČUN FINANC EK'!D17 -> 0 | H22: =+'B.1 RAČUN FINANC EK'!E17 -> 0 | I22: =+'B.1 RAČUN FINANC EK'!F17 -> 0
A23: RAZLIKA PRIMITAKA I IZDATAKA | F23: =F21-F22 -> 0 | G23: =G21-G22 -> 0 | H23: =H21-H22 -> 0 | I23: =I21-I22 -> 0
A24: PRIJENOS SREDSTAVA IZ PRETHODNE GODINE | F24: 721823.22 | G24: 490000 | H24: 490000 | I24: 893251.26
A25: PRIJENOS SREDSTAVA U SLJEDEĆE RAZDOBLJE | F25: -727031 | G25: -526831 | H25: -735576 | I25: 300601.86
A26: NETO FINANCIRANJE | F26: =+F23+F24+F25 -> -5207.78 | G26: =+G23+G24+G25 -> -36831 | H26: =+H23+H24+H25 -> -245576 | I26: =+I23+I24+I25 -> 1193853.1
A27: VIŠAK/MANJAK + NETO FINANCIRANJE | F27: =+F16+F26 -> 1.1641532e-09 | G27: =+G16+G26 -> 0 | H27: =+H16+H26 -> 0 | I27: =+I16+I26 -> 0
A30: Napomena : Iznosi u stupcima "OSTVARENJE/IZVRŠENJE 1.-12.2024." i "OSTVARENJE/IZVRŠENJE 1.-12. 2025." iskazuju se na dvije decimale.
A31: * Opći i posebni dio godišnjeg izvještaja o izvršenju proračuna sadrži samo izvorni plan ako od donošenja proračuna nije bilo izmjena i dopuna niti izvršenih preraspodjela odnosno izvorni plan i tekući plan ako je od donošenja proračuna bilo naknadno izvršenih preraspodjela. Opći i posebni dio godišnjeg izvještaja o izvršenju proračuna sadrži rebalans ako je od donošenja proračuna bilo izmjena i dopuna, odnosno rebalans i tekući plan ako je od izmjena i dopuna proračuna bilo naknadno izvršenih preraspodjela.
A33: ** Ako Opći i Posebni dio godišnjeg izvještaja ne sadrži "TEKUĆI PLAN 2025.", "INDEKS"("OSTVARENJE/IZVRŠENJE 1.-12.2025."/"TEKUĆI PLAN 2025.") iskazuje se kao "OSTVARENJE/IZVRŠENJE 1.-12.2025."/"IZVORNI PLAN 2025." ODNOSNO "REBALANS 2025."

Sheet A.1 PRIHODI EK
A1: I. OPĆI DIO
A3: RAČUN PRIHODA I RASHODA
A5: IZVJEŠTAJ O PRIHODIMA I RASHODIMA PREMA EKONOMSKOJ KLASIFIKACIJI
A7: BROJČANA OZNAKA I NAZIV | C7: OSTVARENJE/IZVRŠENJE 01.2024. - 12.2024. | D7: IZVORNI PLAN ILI REBALANS 2025. | E7: TEKUĆI PLAN 2025. | F7: OSTVARENJE/IZVRŠENJE 01.2025. - 12.2025. | G7: INDEKS (5)/(2) | H7: INDEKS (5)/(4)
A8: 1 | C8: 2 | D8: 3 | E8: 4.3333333 | F8: 5.0833333 | G8: 6 | H8: 7
A9: Prihodi i rashodi | C9: EUR | D9: EUR | E9: EUR | F9: EUR
B10: UKUPNI PRIHODI | C10: =+C11+C72 -> 10560762 | D10: =+D11+D72 -> 10111940 | E10: =+E11+E72 -> 11549505 | F10: =+F11+F72 -> 11152929 | G10: =+F10/C10*100 -> 105.60724 | H10: =+F10/E10*100 -> 96.566297
A11: 6 | B11: Prihodi poslovanja | C11: =+C12+C36+C47+C53+C60+C67 -> 10560762 | D11: =+D12+D36+D47+D53+D60+D67 -> 10111940 | E11: =+E12+E36+E47+E53+E60+E67 -> 11549505 | F11: =+F12+F36+F47+F53+F60+F67 -> 11152929 | G11: =+F11/C11*100 -> 105.60724 | H11: =+F11/E11*100 -> 96.566297
A12: 63 | B12: Pomoći iz inozemstva (darovnice) i od subjekata unutar općeg proračuna | C12: =+C13+C15+C22+C25+C28+C31+C20 -> 1221512 | D12: 579432 | E12: 1132699 | F12: =+F13+F15+F22+F25+F28+F31+F20 -> 736208.45 | G12: =+F12/C12*100 -> 60.27026 | H12: =+F12/E12*100 -> 64.995948
A13: 631 | B13: Pomoći od inozemnih vlada | C13: =+C14 -> 18890.25 | F13: =+F14 -> 19695 | G13: =+F13/C13*100 -> 104.26013
A14: 6311 | B14: Tekuće pomoći od inozemnih vlada | C14: 18890.25 | F14: 19695 | G14: =+F14/C14*100 -> 104.26013
A15: 632 | B15: Pomoći od međunarodnih organizacija te institucija i tijela EU | C15: =SUM(C16:C19) -> 459053.37 | F15: =SUM(F16:F19) -> 271126.1 | G15: =+F15/C15*100 -> 59.062
A16: 6321 | B16: Tekuće pomoći od međunarodnih organizacija | C16: 150893.76 | F16: 267413.1 | G16: =+F16/C16*100 -> 177.21946
A17: 6322 | B17: Kapitalne pomoći od međunarodnih organizacija
A18: 6323 | B18: Tekuće pomoći od institucija i tijela EU | C18: 308159.61 | F18: 3713 | G18: =+F18/C18*100 -> 1.2048951
A19: 6324 | B19: Kapitalne pomoći od institucija i tijela EU
A20: 633 | B20: Pomoći proračunu iz drugih proračuna i izvanproračunskim korisnicima | C20: =+C21 -> 500 | F20: =+F21 -> 0
A21: 6331 | B21: Tekuće pomoći proračunu iz drugih proračuna i izvanproračunskim korisnicima | C21: 500
A22: 634 | B22: Pomoći od ostalih subjekata unutar općeg proračuna
A23: 6341 | B23: Tekuće pomoći od ostalih subjekata unutar općeg proračuna
A24: 6342 | B24: Kapitalne pomoći od ostalih subjekata unutar općeg proračuna
A25: 636 | B25: Pomoći proračunskim korisnicima iz proračuna koji im nije nadležan | C25: =+C26+C27 -> 13500 | F25: =+F26+F27 -> 12580 | G25: =+F25/C25*100 -> 93.185185
A26: 6361 | B26: Tekuće pomoći proračunskim korisnicima iz proračuna koji im nije nadležan | C26: 13500 | F26: 12580 | G26: =+F26/C26*100 -> 93.185185
A27: 6362 | B27: Kapitalne pomoći proračunskim korisnicima iz proračuna koji im nije nadležan
A28: 638 | B28: Pomoći iz državnog proračuna temeljem prijenosa EU sredstava | C28: =+C29+C30 -> 0
A29: 6381 | B29: Tekuće pomoći iz državnog proračuna temeljem prijenosa EU sredstava
A30: 6382 | B30: Kapitalne pomoći iz državnog proračuna temeljem prijenosa EU sredstava
A31: 639 | B31: Prijenosi između proračunskih korisnika istog proračuna | C31: =SUM(C32:C35) -> 729568.36 | F31: =SUM(F32:F35) -> 432807.35 | G31: =+F31/C31*100 -> 59.323755
A32: 6391 | B32: Tekući prijenosi između proračunskih korisnika istog proračuna | C32: 593121.36 | F32: 420097.35 | G32: =+F32/C32*100 -> 70.828228
A33: 6392 | B33: Kapitalni prijenosi između proračunskih korisnika istog proračuna | G33: =+F33/C33*100 -> #DIV/0!
A34: 6393 | B34: Tekući prijenosi između proračunskih korisnika istog proračuna temeljem prijenosa EU sredstava | C34: 136447 | F34: 12710
A35: 6394 | B35: Kapitalni prijenosi između proračunskih korisnika istog proračuna temeljem prijenosa EU sredstava
A36: 64 | B36: Prihodi od imovine | C36: =+C37+C44 -> 6.32 | D36: 0 | E36: 0 | F36: =+F37+F44 -> 2541.38 | G36: =+F36/C36*100 -> 40211.709
A37: 641 | B37: Prihodi od financijske imovine | C37: =SUM(C38:C43) -> 6.32 | F37: =SUM(F38:F43) -> 2541.38 | G37: =+F37/C37*100 -> 40211.709
A38: 6413 | B38: Kamate na oročena sredstva i depozite po viđenju | C38: 6.32 | F38: 5.13 | G38: =+F38/C38*100 -> 81.170886
A39: 6414 | B39: Prihodi od zateznih kamata
A40: 6415 | B40: Prihodi od pozitivnih tečajnih razlika i razlika zbog primjene valutne klauzule | F40: 2536.25
A41: 6416 | B41: Prihodi od dividendi
A42: 6417 | B42: Prihodi iz dobiti trgovačkih društava, kreditnih i ostalih financijskih institucija po posebnim propisima
A43: 6419 | B43: Ostali prihodi od financijske imovine
A44: 642 | B44: Prihodi od nefinancijske imovine
A45: 6425 | B45: Prihodi od prodaje kratkotrajne nefinancijske imovine
A46: 6429 | B46: Ostali prihodi od nefinancijske imovine
A47: 65 | B47: Prihodi od upravnih i administrativnih pristojbi, pristojbi po posebnim propisima i naknada | C47: =+C48+C50 -> 401632.5 | D47: 300000 | E47: 330000 | F47: =+F48+F50 -> 459144.44 | G47: =+F47/C47*100 -> 114.31954 | H47: =+F47/E47*100 -> 139.13468
A48: 651 | B48: Upravne i administrativne pristojbe
A49: 6514 | B49: Ostale pristojbe i naknade
A50: 652 | B50: Prihodi po posebnim propisima | C50: =+C51+C52 -> 401632.5 | F50: =+F51+F52 -> 459144.44 | G50: =+F50/C50*100 -> 114.31954
A51: 6521 | B51: Prihodi državne uprave
A52: 6526 | B52: Ostali nespomenuti prihodi | C52: 401632.5 | F52: 459144.44 | G52: =+F52/C52*100 -> 114.31954
A53: 66 | B53: Prihodi od prodaje proizvoda i robe te pruženih usluga i prihodi od donacija | C53: =+C54+C57 -> 48974.8 | D53: 50000 | E53: 50000 | F53: =+F54+F57 -> 22060.91 | G53: =+F53/C53*100 -> 45.045432 | H53: =+F53/E53*100 -> 44.12182
A54: 661 | B54: Prihodi od prodaje proizvoda i robe te pruženih usluga | C54: =+C55+C56 -> 47974.8 | F54: =+F55+F56 -> 22060.91 | G54: =+F54/C54*100 -> 45.984371
A55: 6614 | B55: Prihodi od prodaje proizvoda i robe | G55: =+F55/C55*100 -> #DIV/0!
A56: 6615 | B56: Prihodi od pruženih usluga | C56: 47974.8 | F56: 22060.91 | G56: =+F56/C56*100 -> 45.984371
A57: 663 | B57: Donacije od pravnih i fizičkih osoba izvan općeg proračuna | C57: =+C58 -> 1000 | F57: =+F58+F59 -> 0
A58: 6631 | B58: Tekuće donacije | C58: 1000
A59: 6632 | B59: Kapitalne donacije
A60: 67 | B60: Prihodi iz proračuna | C60: =+C61+C65 -> 8888636.3 | D60: 9182508 | E60: 10036806 | F60: =+F61+F65 -> 9932974.2 | G60: =+F60/C60*100 -> 111.74913 | H60: =+F60/E60*100 -> 98.965489
A61: 671 | B61: Prihodi iz proračuna | C61: =+C62+C63+C64 -> 8888636.3 | F61: =+F62+F63+F64 -> 9932974.2 | G61: =+F61/C61*100 -> 111.74913
A62: 6711 | B62: Prihodi iz nadležnog proračuna za financiranje rashoda poslovanja | C62: 8888636.3 | F62: 9932974.2 | G62: =+F62/C62*100 -> 111.74913
A63: 6712 | B63: Prihodi iz nadležnog proračuna za financiranje rashoda za nabavu nefinancijske imovine
A64: 6714 | B64: Prihodi iz nadležnog proračuna za financiranje izdataka za financijsku imovinu i otplatu zajmova
A65: 673 | B65: Prihodi od HZZO-a na temelju ugovornih obveza
A66: 6731 | B66: Prihodi od HZZO-a na temelju ugovornih obveza
A67: 68 | B67: Kazne, upravne mjere i ostali prihodi | C67: =+C68+C70 -> 0
A68: 681 | B68: Kazne i upravne mjere
A69: 6819 | B69: Ostale kazne
A70: 683 | B70: Ostali prihodi | C70: =+C71 -> 0
A71: 6831 | B71: Ostali prihodi
A72: 7 | B72: Prihodi od prodaje nefinancijske imovine | C72: =+C73+C78 -> 0
A73: 71 | B73: Prihodi od prodaje neproizvedene dugotrajne imovine | C73: =+C74+C76 -> 0
A74: 711 | B74: Prihodi od prodaje materijalne imovine - prirodnih bogatstava | C74: =+C75 -> 0
A75: 7111 | B75: Zemljište
A76: 712 | B76: Prihodi od prodaje nematerijalne imovine | C76: =+C77 -> 0
A77: 7124 | B77: Ostala prava
A78: 72 | B78: Prihodi od prodaje proizvedene dugotrajne imovine | C78: =+C79+C82+C86+C89 -> 0
A79: 721 | B79: Prihodi od prodaje građevinskih objekata | C79: =+C80+C81 -> 0
A80: 7211 | B80: Stambeni objekti
A81: 7212 | B81: Poslovni objekti
A82: 722 | B82: Prihodi od prodaje postrojenja i opreme
A83: 7221 | B83: Uredska oprema i namještaj
A84: 7226 | B84: Sportska i glazbena oprema
A85: 7227 | B85: Uređaji, strojevi i oprema za ostale namjene
A86: 723 | B86: Prihodi od prodaje prijevoznih sredstava
A87: 7231 | B87: Prijevozna sredstva u cestovnom prometu
A88: 7233 | B88: Prijevozna sredstva u pomorskom i riječnom prometu
A89: 725 | B89: Prihodi od prodaje višegodišnjih nasada i osnovnog stada
A90: 7252 | B90: Osnovno stado

Sheet A.1 RASHODI EK
A1: I. OPĆI DIO
A3: RAČUN PRIHODA I RASHODA
A5: IZVJEŠTAJ O PRIHODIMA I RASHODIMA PREMA EKONOMSKOJ KLASIFIKACIJI
A7: BROJČANA OZNAKA I NAZIV | C7: OSTVARENJE/IZVRŠENJE 01.2024. - 12.2024. | D7: IZVORNI PLAN ILI REBALANS 2025. | E7: TEKUĆI PLAN 2025. | F7: OSTVARENJE/IZVRŠENJE 01.2025. - 12.2025. | G7: INDEKS (5)/(2) | H7: INDEKS (5)/(4)
A8: 1 | C8: 2 | D8: 3 | E8: 4.3333333 | F8: 5.0833333 | G8: 6 | H8: 7
B9: UKUPNI RASHODI | C9: =+C10+C113 -> 10555554 | D9: =+D10+D113 -> 10075109 | E9: =+E10+E113 -> 11303929 | F9: =+F10+F113 -> 12346782 | G9: =+F9/C9*100 -> 116.96953 | H9: =+F9/D9*100 -> 122.54738
A10: 3 | B10: Rashodi poslovanja | C10: =+C11++C23+C56+C65+C73+C90+C98 -> 10500752 | D10: =+D11++D23+D56+D65+D73+D90+D98 -> 10006514 | E10: =+E11++E23+E56+E65+E73+E90+E98 -> 11195930 | F10: =+F11++F23+F56+F65+F73+F90+F98 -> 12240111 | G10: =+F10/C10*100 -> 116.56414 | H10: =+F10/D10*100 -> 122.32143
A11: 31 | B11: Rashodi za zaposlene | C11: =+C12+C17+C19 -> 9127122.5 | D11: 8991691 | E11: 9939763 | F11: =+F12+F17+F19 -> 10803626 | G11: =+F11/C11*100 -> 118.36836 | H11: =+F11/D11*100 -> 120.15121
A12: 311 | B12: Plaće (Bruto) | C12: =SUM(C13:C16) -> 7662545.6 | F12: =SUM(F13:F16) -> 9063191.3 | G12: =+F12/C12*100 -> 118.27912
A13: 3111 | B13: Plaće za redovan rad | C13: 7662545.6 | F13: =9097834.32-34643 -> 9063191.3 | G13: =+F13/C13*100 -> 118.27912
A14: 3112 | B14: Plaće u naravi
A15: 3113 | B15: Plaće za prekovremeni rad
A16: 3114 | B16: Plaće za posebne uvjete rada
A17: 312 | B17: Ostali rashodi za zaposlene | C17: =+C18 -> 208014.54 | F17: =+F18 -> 240725.61 | G17: =+F17/C17*100 -> 115.72538
A18: 3121 | B18: Ostali rashodi za zaposlene | C18: 208014.54 | F18: 240725.61 | G18: =+F18/C18*100 -> 115.72538
A19: 313 | B19: Doprinosi na plaće | C19: =SUM(C20:C22) -> 1256562.4 | F19: =SUM(F20:F22) -> 1499708.6 | G19: =+F19/C19*100 -> 119.35012
A20: 3131 | B20: Doprinosi za mirovinsko osiguranje
A21: 3132 | B21: Doprinosi za obvezno zdravstveno osiguranje | C21: 1256562.4 | F21: 1499708.6 | G21: =+F21/C21*100 -> 119.35012
A22: 3133 | B22: Doprinosi za obvezno osiguranje u slučaju nezaposlenosti
A23: 32 | B23: Materijalni rashodi | C23: =+C24+C29+C36+C46+C48 -> 1301540.1 | D23: 905323 | E23: 1142449 | F23: =+F24+F29+F36+F46+F48 -> 1324013.8 | G23: =+F23/C23*100 -> 101.7267 | H23: =+F23/D23*100 -> 146.24767
A24: 321 | B24: Naknade troškova zaposlenima | C24: =SUM(C25:C28) -> 393562.3 | F24: =SUM(F25:F28) -> 430770.44 | G24: =+F24/C24*100 -> 109.45419
A25: 3211 | B25: Službena putovanja | C25: 253954.21 | F25: 270867.07 | G25: =+F25/C25*100 -> 106.65981
A26: 3212 | B26: Naknade za prijevoz, za rad na terenu i odvojeni život | C26: 98620.99 | F26: 107510.39 | G26: =+F26/C26*100 -> 109.0137
A27: 3213 | B27: Stručno usavršavanje zaposlenika | C27: 40987.1 | F27: 51113.26 | G27: =+F27/C27*100 -> 124.70572
A28: 3214 | B28: Ostale naknade troškova zaposlenima | F28: 1279.72
A29: 322 | B29: Rashodi za materijal i energiju | C29: =SUM(C30:C35) -> 170184.51 | F29: =SUM(F30:F35) -> 194912.63 | G29: =+F29/C29*100 -> 114.53018
A30: 3221 | B30: Uredski materijal i ostali materijalni rashodi | C30: 30011.24 | F30: 36669.95 | G30: =+F30/C30*100 -> 122.18739
A31: 3222 | B31: Materijal i sirovine | C31: 1952.19 | F31: 1162.23 | G31: =+F31/C31*100 -> 59.534676
A32: 3223 | B32: Energija | C32: 123060.22 | F32: =144224.22+3114 -> 147338.22 | G32: =+F32/C32*100 -> 119.72855
A33: 3224 | B33: Materijal i dijelovi za tekuće i investicijsko održavanje | C33: 9586.34 | F33: 6913.77 | G33: =+F33/C33*100 -> 72.12106
A34: 3225 | B34: Sitni inventar i auto gume | C34: 5214.58 | F34: 2588.61 | G34: =+F34/C34*100 -> 49.641774
A35: 3227 | B35: Službena, radna i zaštitna odjeća i obuća | C35: 359.94 | F35: 239.85 | G35: =+F35/C35*100 -> 66.636106
A36: 323 | B36: Rashodi za usluge | C36: =SUM(C37:C45) -> 591758.77 | F36: =SUM(F37:F45) -> 582107.06 | G36: =+F36/C36*100 -> 98.368979
A37: 3231 | B37: Usluge telefona, pošte i prijevoza | C37: 24311.44 | F37: 30527.72 | G37: =+F37/C37*100 -> 125.56936
A38: 3232 | B38: Usluge tekućeg i investicijskog održavanja | C38: 62740.19 | F38: 37383.17 | G38: =+F38/C38*100 -> 59.584088
A39: 3233 | B39: Usluge promidžbe i informiranja | C39: 43844.7 | F39: 21313.48 | G39: =+F39/C39*100 -> 48.611303
A40: 3234 | B40: Komunalne usluge | C40: 35339.35 | F40: 39101.79 | G40: =+F40/C40*100 -> 110.6466
A41: 3235 | B41: Zakupnine i najamnine | C41: 8714.83 | F41: 12871.03 | G41: =+F41/C41*100 -> 147.69112
A42: 3236 | B42: Zdravstvene i veterinarske usluge | C42: 10022.73 | F42: 11427.06 | G42: =+F42/C42*100 -> 114.01145
A43: 3237 | B43: Intelektualne i osobne usluge | C43: 288045.87 | F43: 300099.07 | G43: =+F43/C43*100 -> 104.18447
A44: 3238 | B44: Računalne usluge | C44: 22906.48 | F44: 24337.56 | G44: =+F44/C44*100 -> 106.24749
A45: 3239 | B45: Ostale usluge | C45: 95833.18 | F45: 105046.18 | G45: =+F45/C45*100 -> 109.61358
A46: 324 | B46: Naknade troškova osobama izvan radnog odnosa | C46: =+C47 -> 82981.64 | F46: =F47 -> 61713.92 | G46: =+F46/C46*100 -> 74.370572
A47: 3241 | B47: Naknade troškova osobama izvan radnog odnosa | C47: 82981.64 | F47: 61713.92 | G47: =+F47/C47*100 -> 74.370572
A48: 329 | B48: Ostali nespomenuti rashodi poslovanja | C48: =SUM(C49:C55) -> 63052.89 | F48: =SUM(F49:F55) -> 54509.78 | G48: =+F48/C48*100 -> 86.450883
A49: 3291 | B49: Naknade za rad predstavničkih i izvršnih tijela, povjerenstava i slično
A50: 3292 | B50: Premije osiguranja | C50: 10342.54 | F50: 11022.81 | G50: =+F50/C50*100 -> 106.5774
A51: 3293 | B51: Reprezentacija | C51: 41118.22 | F51: 31643.1 | G51: =+F51/C51*100 -> 76.956395
A52: 3294 | B52: Članarine i norme | C52: 2022.61 | F52: 3121.24 | G52: =+F52/C52*100 -> 154.31744
A53: 3295 | B53: Pristojbe i naknade | C53: 4889.28 | F53: 4318.4 | G53: =+F53/C53*100 -> 88.323843
A54: 3296 | B54: Troškovi sudskih postupaka | F54: 0 | G54: =+F54/C54*100 -> #DIV/0!
A55: 3299 | B55: Ostali nespomenuti rashodi poslovanja | C55: 4680.24 | F55: 4404.23 | G55: =+F55/C55*100 -> 94.102653
A56: 34 | B56: Financijski rashodi | C56: =+C57+C60 -> 10343.67 | D56: 4000 | E56: 4000 | F56: =+F57+F60 -> 6189.07 | G56: =+F56/C56*100 -> 59.834372 | H56: =+F56/D56*100 -> 154.72675
A57: 342 | B57: Kamate za primljene kredite i zajmove
A58: 3422 | B58: Kamate za primljene kredite i zajmove od kreditnih i ostalih financijskih institucija u javnom sektoru
A59: 3423 | B59: Kamate za primljene kredite i zajmove od kreditnih i ostalih financijskih institucija izvan javnog sektora
A60: 343 | B60: Ostali financijski rashodi | C60: =SUM(C61:C64) -> 10343.67 | F60: =SUM(F61:F64) -> 6189.07 | G60: =+F60/C60*100 -> 59.834372
A61: 3431 | B61: Bankarske usluge i usluge platnog prometa | C61: 4221.85 | F61: =4157.5-984 -> 3173.5 | G61: =+F61/C61*100 -> 75.168469
A62: 3432 | B62: Negativne tečajne razlike i razlike zbog primjene valutne klauzule | C62: 6083.73 | F62: 2536.27 | G62: =+F62/C62*100 -> 41.689391
A63: 3433 | B63: Zatezne kamate | C63: 38.08 | F63: 2.57 | G63: =+F63/C63*100 -> 6.7489496
A64: 3434 | B64: Ostali nespomenuti financijski rashodi | C64: 0.01 | F64: 476.73 | G64: =+F64/C64*100 -> 4767300
A65: 35 | B65: Subvencije | D65: 0 | E65: 0
A66: 351 | B66: Subvencije trgovačkim društvima u javnom sektoru
A67: 3511 | B67: Subvencije kreditnim i ostalim financijskim institucijama u javnom sektoru
A68: 352 | B68: Subvencije trgovačkim društvima, poljoprivrednicima i obrtnicima izvan javnog sektora
A69: 3521 | B69: Subvencije kreditnim i ostalim financijskim institucijama izvan javnog sektora
A70: 3522 | B70: Subvencije trgovačkim društvima izvan javnog sektora
A71: 353 | B71: Subvencije trgovačkim društvima, zadrugama, poljoprivrednicima i obrtnicima iz EU sredstava
A72: 3531 | B72: Subvencije trgovačkim društvima, zadrugama, poljoprivrednicima i obrtnicima iz EU sredstava
A73: 36 | B73: Pomoći dane u inozemstvo i unutar općeg proračuna | C73: =+C74+C76+C78+C80+C83+C85 -> 18085.62 | D73: 16500 | E73: 14075 | F73: =+F74+F76+F78+F80+F83+F85 -> 14734.6 | G73: =+F73/C73*100 -> 81.471357 | H73: =+F73/D73*100 -> 89.300606
A74: 361 | B74: Pomoći inozemnim vladama | C74: =+C75 -> 0 | F74: =+F75 -> 0
A75: 3611 | B75: Tekuće pomoći inozemnim vladama
A76: 362 | B76: Pomoći međunarodnim organizacijama te institucijama i tijelima EU
A77: 3621 | B77: Tekuće pomoći međunarodnim organizacijama te institucijama i tijelima EU
A78: 363 | B78: Pomoći unutar općeg proračuna | C78: =+C79 -> 79.68 | F78: =+F79 -> 106.25
A79: 3631 | B79: Tekuće pomoći unutar općeg proračuna | C79: 79.68 | F79: 106.25
A80: 366 | B80: Pomoći proračunskim korisnicima drugih proračuna
A81: 3661 | B81: Tekuće pomoći proračunskim korisnicima drugih proračuna
A82: 3662 | B82: Kapitalne pomoći proračunskim korisnicima drugih proračuna
A83: 368 | B83: Pomoći temeljem prijenosa EU sredstava
A84: 3681 | B84: Tekuće pomoći temeljem prijenosa EU sredstava | G84: =+F84/C84*100 -> #DIV/0!
A85: 369 | B85: Prijenosi između proračunskih korisnika istog proračuna | C85: =SUM(C86:C89) -> 18005.94 | F85: =SUM(F86:F89) -> 14628.35 | G85: =+F85/C85*100 -> 81.241801
A86: 3691 | B86: Tekući prijenosi između proračunskih korisnika istog proračuna | C86: 18005.94 | F86: 14628.35 | G86: =+F86/C86*100 -> 81.241801
A87: 3692 | B87: Kapitalni prijenosi između proračunskih korisnika istog proračuna
A88: 3693 | B88: Tekući prijenosi između proračunskih korisnika istog proračuna temeljem prijenosa EU sredstava
A89: 3694 | B89: Kapitalni prijenosi između proračunskih korisnika istog proračuna temeljem prijenosa EU sredstava | G89: =+F89/C89*100 -> #DIV/0!
A90: 37 | B90: Naknade građanima i kućanstvima na temelju osiguranja i druge naknade | C90: =+C91+C94 -> 41181.43 | D90: 87500 | E90: 92543 | F90: =+F91+F94 -> 88521.97 | G90: =+F90/C90*100 -> 214.95604
A91: 371 | B91: Naknade građanima i kućanstvima na temelju osiguranja
A92: 3712 | B92: Naknade građanima i kućanstvima u naravi - neposredno ili putem ustanova izvan javnog sektora
A93: 3714 | B93: Naknade građanima i kućanstvima u naravi - putem ustanova u javnom sektoru
A94: 372 | B94: Ostale naknade građanima i kućanstvima iz proračuna | C94: =SUM(C95:C97) -> 41181.43 | F94: =SUM(F95:F97) -> 88521.97 | G94: =+F94/C94*100 -> 214.95604
A95: 3721 | B95: Naknade građanima i kućanstvima u novcu | C95: 41181.43 | F95: 88521.97 | G95: =+F95/C95*100 -> 214.95604
A96: 3722 | B96: Naknade građanima i kućanstvima u naravi
A97: 3723 | B97: Naknade građanima i kućanstvima iz EU sredstava
A98: 38 | B98: Ostali rashodi | C98: =+C99+C103+C107 -> 2478.54 | D98: 1500 | E98: 3100 | F98: =+F99+F103+F107 -> 3025.85 | G98: =+F98/C98*100 -> 122.08195 | H98: =+F98/D98*100 -> 201.72333
A99: 381 | B99: Tekuće donacije | C99: =SUM(C100:C102) -> 2478.54 | F99: =SUM(F100:F102) -> 3025.85 | G99: =+F99/C99*100 -> 122.08195
A100: 3811 | B100: Tekuće donacije u novcu | C100: 1880 | F100: 2670 | G100: =+F100/C100*100 -> 142.02128
A101: 3812 | B101: Tekuće donacije u naravi | C101: 598.54 | F101: 355.85 | G101: =+F101/C101*100 -> 59.453002
A102: 3813 | B102: Tekuće donacije iz EU sredstava
A103: 382 | B103: Kapitalne donacije
...

Sheet A.2 PRIHODI I RASHODI IF
A5: IZVJEŠTAJ O PRIHODIMA I RASHODIMA PREMA IZVORIMA FINANCIRANJA
A7: BROJČANA OZNAKA I NAZIV | C7: OSTVARENJE/IZVRŠENJE 01.2024. - 12.2024. | D7: IZVORNI PLAN ILI REBALANS 2025. | E7: TEKUĆI PLAN 2025. | F7: OSTVARENJE/IZVRŠENJE 01.2025. - 12.2025. | G7: INDEKS (5)/(2) | H7: INDEKS (5)/(4)
A8: 1 | C8: 2 | D8: 3 | E8: 4.3333333 | F8: 5.0833333 | G8: 6 | H8: 7
A9: Prihodi i rashodi | C9: EUR | D9: EUR | E9: EUR | F9: EUR
A10: PRIHODI | C10: =+C11+C14+C16+C18+C24+C26 -> 10560762 | D10: =+D11+D14+D16+D18+D24+D26 -> 10111940 | E10: =+E11+E14+E16+E18+E24+E26 -> 11549505 | F10: =+F11+F14+F16+F18+F24+F26 -> 11152929 | G10: =+F10/C10*100 -> 105.60724 | H10: =+F10/E10*100 -> 96.566297
A11: 1 | B11: Opći prihodi i primici | C11: =+C12 -> 8888636.3 | D11: =+D12 -> 9182508 | E11: =+E12 -> 9944534 | F11: =+F12 -> 9840702.4 | G11: =+F11/C11*100 -> 110.71105 | H11: =+F11/E11*100 -> 98.955893
A12: 11 | B12: Opći prihodi i primici | C12: 8888636.3 | D12: 9182508 | E12: 9944534 | F12: =9932974.17-92271.74 -> 9840702.4 | G12: =+F12/C12*100 -> 110.71105 | H12: =+F12/E12*100 -> 98.955893
A13: 12 | B13: Sredstva učešća za pomoći
A14: 3 | B14: Vlastiti prihodi | C14: =+C15 -> 98793.74 | D14: =+D15 -> 50000 | E14: =+E15 -> 50000 | F14: =+F15 -> 22060.91 | G14: =+F14/C14*100 -> 22.330271 | H14: =+F14/E14*100 -> 44.12182
A15: 31 | B15: Vlastiti prihodi | C15: 98793.74 | D15: 50000 | E15: 50000 | F15: 22060.91 | G15: =+F15/C15*100 -> 22.330271 | H15: =+F15/E15*100 -> 44.12182
A16: 4 | B16: Prihodi za posebne namjene | C16: =+C17 -> 351813.56 | D16: =+D17 -> 300000 | E16: =+E17 -> 330000 | F16: =+F17 -> 461686.82 | G16: =+F16/C16*100 -> 131.23054 | H16: =+F16/E16*100 -> 139.9051
A17: 43 | B17: Ostali prihodi za posebne namjene | C17: 351813.56 | D17: 300000 | E17: 330000 | F17: =459144.44+2542.38 -> 461686.82 | G17: =+F17/C17*100 -> 131.23054 | H17: =+F17/E17*100 -> 139.9051
A18: 5 | B18: Pomoći | C18: =SUM(C19:C23) -> 1220518.3 | D18: =SUM(D19:D23) -> 579432 | E18: =SUM(E19:E23) -> 1224971 | F18: =SUM(F19:F23) -> 828479.19 | G18: =+F18/C18*100 -> 67.879293 | H18: =+F18/E18*100 -> 67.632555
A19: 51 | B19: Pomoći EU | C19: 305857.91 | D19: 280000 | E19: 591000 | F19: 3713 | G19: =+F19/C19*100 -> 1.2139624 | H19: =+F19/E19*100 -> 0.62825719
A20: 52 | B20: Ostale pomoći | C20: =917154.67-2494.28 -> 914660.39 | D20: 299432 | E20: 541699 | F20: =432807.35+287107.1+12580 -> 732494.45 | G20: =+F20/C20*100 -> 80.083762 | H20: =+F20/E20*100 -> 135.22167
A21: 56 | B21: Fondovi EU
A22: 57 | B22: Ostali programi EU
A23: 58 | B23: Instrumenti EU nove generacije | E23: 92272 | F23: 92271.74
A24: 6 | B24: Donacije | C24: =+C25 -> 1000 | F24: =+F25 -> 0 | G24: =+F24/C24*100 -> 0
A25: 61 | B25: Donacije | C25: 1000 | G25: =+F25/C25*100 -> 0
A26: 7 | B26: Prihodi od nefin. imovine i nadoknade štete s osnova osig. | C26: =+C27 -> 0
A27: 71 | B27: Prihodi od nefin. imovine i nadoknade štete s osnova osig.
A28: RASHODI | C28: =+C29+C32+C34+C36+C42+C44+C46 -> 10555554 | D28: =+D29+D32+D34+D36+D42+D44+D46 -> 10075109 | E28: =+E29+E32+E34+E36+E42+E44+E46 -> 11303929 | F28: =+F29+F32+F34+F36+F42+F44+F46 -> 12346781 | G28: =+F28/C28*100 -> 116.96952 | H28: =+F28/E28*100 -> 109.22558
A29: 1 | B29: Opći prihodi i primici | C29: =+C30+C31 -> 9246209.1 | D29: =+D30+D31 -> 9182508 | E29: =+E30+E31 -> 9944534 | F29: =+F30+F31 -> 10613046 | G29: =+F29/C29*100 -> 114.78267 | H29: =+F29/E29*100 -> 106.72241
A30: 11 | B30: Opći prihodi i primici | C30: 9246209.1 | D30: 9182508 | E30: 9944534 | F30: 10613046 | G30: =+F30/C30*100 -> 114.78267 | H30: =+F30/E30*100 -> 106.72241
A31: 12 | B31: Sredstva učešća za pomoći
A32: 3 | B32: Vlastiti prihodi | C32: =+C33 -> 68407.32 | D32: =+D33 -> 44863 | E32: =+E33 -> 49825 | F32: =+F33 -> 97244.84 | G32: =+F32/C32*100 -> 142.15561 | H32: =+F32/E32*100 -> 195.17278
A33: 31 | B33: Vlastiti prihodi | C33: 68407.32 | D33: 44863 | E33: 49825 | F33: =133569.47+13675.37-50000 -> 97244.84 | G33: =+F33/C33*100 -> 142.15561 | H33: =+F33/E33*100 -> 195.17278
A34: 4 | B34: Prihodi za posebne namjene | C34: =+C35 -> 327101.33 | D34: =+D35 -> 246744 | E34: =+E35 -> 319620 | F34: =+F35 -> 548196.58 | G34: =+F34/C34*100 -> 167.59228 | H34: =+F34/E34*100 -> 171.51511
A35: 43 | B35: Ostali prihodi za posebne namjene | C35: 327101.33 | D35: 246744 | E35: 319620 | F35: =612816.1-64619.52 -> 548196.58 | G35: =+F35/C35*100 -> 167.59228 | H35: =+F35/E35*100 -> 171.51511
A36: 5 | B36: Pomoći | C36: =SUM(C37:C41) -> 913836.43 | D36: =SUM(D37:D41) -> 600994 | E36: =SUM(E37:E41) -> 989950 | F36: =SUM(F37:F41) -> 1088294.1 | G36: =+F36/C36*100 -> 119.09068 | H36: =+F36/E36*100 -> 109.93424
A37: 51 | B37: Pomoći EU | C37: 363628.03 | D37: 385100 | E37: 365645 | F37: 319498.19 | G37: =+F37/C37*100 -> 87.864016 | H37: =+F37/E37*100 -> 87.379341
A38: 52 | B38: Ostale pomoći | C38: 550208.4 | D38: 215894 | E38: 532033 | F38: 719290.63 | G38: =+F38/C38*100 -> 130.73058 | H38: =+F38/E38*100 -> 135.19662
A39: 56 | B39: Fondovi EU
A40: 57 | B40: Ostali programi EU | E40: 92272 | F40: 49505.23
A41: 58 | B41: Instrumenti EU nove generacije
A42: 6 | B42: Donacije
A43: 61 | B43: Donacije
A44: 7 | B44: Prihodi od nefin. imovine i nadoknade štete s osnova osig.
A45: 71 | B45: Prihodi od nefin. imovine i nadoknade štete s osnova osig.
A46: 8 | B46: Namjenski primici od zaduživanja
A47: 81 | B47: Namjenski primici od zaduživanja

Sheet A.3 RASHODI FUNKC
A5: IZVJEŠTAJ O RASHODIMA PREMA FUNKCIJSKOJ KLASIFIKACIJI
A7: BROJČANA OZNAKA I NAZIV | C7: OSTVARENJE/IZVRŠENJE 01.2024. - 12.2024. | D7: IZVORNI PLAN ILI REBALANS 2025. | E7: TEKUĆI PLAN 2025. | F7: OSTVARENJE/IZVRŠENJE 01.2025. - 12.2025. | G7: INDEKS (5)/(2) | H7: INDEKS (5)/(4)
A8: 1 | C8: 2 | D8: 3 | E8: 4.3333333 | F8: 5.0833333 | G8: 6 | H8: 7
A9: Rashodi | C9: EUR | D9: EUR | E9: EUR | F9: EUR
B10: UKUPNO RASHODI | C10: =+C11+C13 -> 10555554 | D10: =+D11+D13 -> 10075109 | E10: =+E11+E13 -> 11303929 | F10: =+F11+F13 -> 12346781 | G10: =+F10/C10*100 -> 116.96952 | H10: =+F10/E10*100 -> 109.22557
A11: 01 | B11: Opće javne usluge
A12: 015 | B12: Istraživanje i razvoj: Opće javne usluge
A13: 09 | B13: Obrazovanje | C13: =+C14 -> 10555554 | D13: =+D14 -> 10075109 | E13: =+E14 -> 11303929 | F13: =+F14 -> 12346781 | G13: =+F13/C13*100 -> 116.96952 | H13: =+F13/E13*100 -> 109.22557
A14: 094 | B14: Visoka naobrazba | C14: 10555554 | D14: 10075109 | E14: 11303929 | F14: 12346781 | G14: =+F14/C14*100 -> 116.96952 | H14: =+F14/E14*100 -> 109.22557

Sheet B.1 RAČUN FINANC EK
A5: IZVJEŠTAJ RAČUNA FINANCIRANJA PREMA EKONOMSKOJ KLASIFIKACIJI
A7: BROJČANA OZNAKA I NAZIV | C7: OSTVARENJE/IZVRŠENJE 01.2023. - 012.2023. | D7: IZVORNI PLAN ILI REBALANS 2024. | E7: TEKUĆI PLAN 2024. | F7: OSTVARENJE/IZVRŠENJE 01.2024. - 12.2024. | G7: INDEKS (5)/(2) | H7: INDEKS (5)/(4)
A8: 1 | C8: 2 | D8: 3 | E8: 4.3333333 | F8: 5.0833333 | G8: 6 | H8: 7
A9: Primici i izdaci | C9: EUR | D9: EUR | E9: EUR | F9: EUR
A10: 8 | B10: Primici od financijske imovine i zaduživanja | C10: =+C11+C14 -> 0 | D10: =+D11+D14 -> 0 | E10: =+E11+E14 -> 0 | F10: =+F11+F14 -> 0 | G10: =+F10/C10*100 -> #DIV/0! | H10: =+F10/E10*100 -> #DIV/0!
A11: 81 | B11: Primljeni povrati glavnica danih zajmova i depozita | C11: =+C12 -> 0 | F11: =+F12 -> 0 | G11: =+F11/C11*100 -> #DIV/0! | H11: =+F11/E11*100 -> #DIV/0!
A12: 818 | B12: Primici od povrata depozita i jamčevnih pologa | C12: =+C13 -> 0 | F12: =+F13 -> 0 | G12: =+F12/C12*100 -> #DIV/0! | H12: =+F12/E12*100 -> #DIV/0!
A13: 8181 | B13: Primici od povrata depozita od kreditnih i ostalih financijskih institucija - tuzemni | G13: =+F13/C13*100 -> #DIV/0! | H13: =+F13/E13*100 -> #DIV/0!
A14: 83 | B14: Primici od prodaje dionica i udjela u glavnici | C14: =+C15 -> 0 | F14: =+F15 -> 0 | G14: =+F14/C14*100 -> #DIV/0! | H14: =+F14/E14*100 -> #DIV/0!
A15: 833 | B15: Primici od prodaje dionica i udjela u glavnici kreditnih i ostalih financijskih institucija izvan javnog sektora | C15: =+C16 -> 0 | F15: =+F16 -> 0 | G15: =+F15/C15*100 -> #DIV/0! | H15: =+F15/E15*100 -> #DIV/0!
A16: 8331 | B16: Dionice i udjeli u glavnici tuzemnih kreditnih i ostalih financijskih institucija izvan javnog sektora | G16: =+F16/C16*100 -> #DIV/0! | H16: =+F16/E16*100 -> #DIV/0!
A17: 5 | B17: Izdaci za financijsku imovinu i otplate zajmova | C17: =+C18+C27+C32 -> 0 | D17: =+D18+D27+D32 -> 0 | E17: =+E18+E27+E32 -> 0 | F17: =+F18+F27+F32 -> 0 | G17: =+F17/C17*100 -> #DIV/0! | H17: =+F17/E17*100 -> #DIV/0!
A18: 51 | B18: Izdaci za dane zajmove i depozite | C18: =+C19+C22+C24 -> 0 | F18: =+F19+F22+F24 -> 0 | G18: =+F18/C18*100 -> #DIV/0! | H18: =+F18/E18*100 -> #DIV/0!
A19: 512 | B19: Izdaci za dane zajmove neprofitnim organizacijama, građanima i kućanstvima | C19: =+C20+C21 -> 0 | F19: =+F20+F21 -> 0 | G19: =+F19/C19*100 -> #DIV/0! | H19: =+F19/E19*100 -> #DIV/0!
A20: 5121 | B20: Dani zajmovi neprofitnim organizacijama, građanima i kućanstvima u tuzemstvu | G20: =+F20/C20*100 -> #DIV/0! | H20: =+F20/E20*100 -> #DIV/0!
A21: 5122 | B21: Dani zajmovi neprofitnim organizacijama, građanima i kućanstvima u inozemstvu | G21: =+F21/C21*100 -> #DIV/0! | H21: =+F21/E21*100 -> #DIV/0!
A22: 514 | B22: Izdaci za dane zajmove trgovačkim društvima u javnom sektoru | C22: =+C23 -> 0 | F22: =+F23 -> 0 | G22: =+F22/C22*100 -> #DIV/0! | H22: =+F22/E22*100 -> #DIV/0!
A23: 5141 | B23: Dani zajmovi trgovačkim društvima u javnom sektoru | G23: =+F23/C23*100 -> #DIV/0! | H23: =+F23/E23*100 -> #DIV/0!
A24: 518 | B24: Izdaci za depozite i jamčevne pologe | C24: =+C25+C26 -> 0 | F24: =+F25+F26 -> 0 | G24: =+F24/C24*100 -> #DIV/0! | H24: =+F24/E24*100 -> #DIV/0!
A25: 5181 | B25: Izdaci za depozite u kreditnim i ostalim financijskim institucijama - tuzemni | G25: =+F25/C25*100 -> #DIV/0! | H25: =+F25/E25*100 -> #DIV/0!
A26: 5183 | B26: Izdaci za jamčevne pologe | G26: =+F26/C26*100 -> #DIV/0! | H26: =+F26/E26*100 -> #DIV/0!
A27: 53 | B27: Izdaci za dionice i udjele u glavnici | C27: =+C28+C30 -> 0 | F27: =+F28+F30 -> 0 | G27: =+F27/C27*100 -> #DIV/0! | H27: =+F27/E27*100 -> #DIV/0!
A28: 532 | B28: Dionice i udjeli u glavnici trgovačkih društava u javnom sektoru | C28: =+C29 -> 0 | F28: =+F29 -> 0 | G28: =+F28/C28*100 -> #DIV/0! | H28: =+F28/E28*100 -> #DIV/0!
A29: 5321 | B29: Dionice i udjeli u glavnici trgovačkih društava u javnom sektoru | G29: =+F29/C29*100 -> #DIV/0! | H29: =+F29/E29*100 -> #DIV/0!
A30: 534 | B30: Dionice i udjeli u glavnici trgovačkih društava izvan javnog sektora | C30: =+C31 -> 0 | F30: =+F31 -> 0 | G30: =+F30/C30*100 -> #DIV/0! | H30: =+F30/E30*100 -> #DIV/0!
A31: 5341 | B31: Dionice i udjeli u glavnici tuzemnih trgovačkih društava izvan javnog sektora | G31: =+F31/C31*100 -> #DIV/0! | H31: =+F31/E31*100 -> #DIV/0!
A32: 54 | B32: Izdaci za otplatu glavnice primljenih kredita i zajmova | C32: =+C33+C35 -> 0 | F32: =+F33+F35 -> 0 | G32: =+F32/C32*100 -> #DIV/0! | H32: =+F32/E32*100 -> #DIV/0!
A33: 542 | B33: Otplata glavnice primljenih kredita i zajmova od kreditnih i ostalih financijskih institucija u javnom sektoru | C33: =+C34 -> 0 | F33: =+F34 -> 0 | G33: =+F33/C33*100 -> #DIV/0! | H33: =+F33/E33*100 -> #DIV/0!
A34: 5422 | B34: Otplata glavnice primljenih kredita od kreditnih institucija u javnom sektoru | G34: =+F34/C34*100 -> #DIV/0! | H34: =+F34/E34*100 -> #DIV/0!
A35: 544 | B35: Otplata glavnice primljenih kredita i zajmova od kreditnih i ostalih financijskih institucija izvan javnog sektora | C35: =+C36 -> 0 | F35: =+F36 -> 0 | G35: =+F35/C35*100 -> #DIV/0! | H35: =+F35/E35*100 -> #DIV/0!
A36: 5443 | B36: Otplata glavnice primljenih kredita od tuzemnih kreditnih institucija izvan javnog sektora | G36: =+F36/C36*100 -> #DIV/0! | H36: =+F36/E36*100 -> #DIV/0!

Sheet B.2 RAČUN FINANC IF
A5: IZVJEŠTAJ RAČUNA FINANCIRANJA PREMA IZVORIMA FINANCIRANJA
A7: BROJČANA OZNAKA I NAZIV | C7: OSTVARENJE/IZVRŠENJE 01.2023. - 012.2023. | D7: IZVORNI PLAN ILI REBALANS 2024. | E7: TEKUĆI PLAN 2024. | F7: OSTVARENJE/IZVRŠENJE 01.2024. - 12.2024. | G7: INDEKS (5)/(2) | H7: INDEKS (5)/(4)
A8: 1 | C8: 2 | D8: 3 | E8: 4.3333333 | F8: 5.0833333 | G8: 6 | H8: 7
A9: Primici i izdaci | C9: EUR | D9: EUR | E9: EUR | F9: EUR
A10: PRIMICI | C10: =+C11 -> 0 | D10: =+D11 -> 0 | E10: =+E11 -> 0 | F10: =+F11 -> 0 | G10: =+F10/C10*100 -> #DIV/0! | H10: =+F10/E10*100 -> #DIV/0!
A11: 4 | B11: Prihodi za posebne namjene | C11: =+C12 -> 0 | D11: =+D12 -> 0 | E11: =+E12 -> 0 | F11: =+F12 -> 0 | G11: =+F11/C11*100 -> #DIV/0! | H11: =+F11/E11*100 -> #DIV/0!
A12: 43 | B12: Ostali prihodi za posebne namjene | G12: =+F12/C12*100 -> #DIV/0! | H12: =+F12/E12*100 -> #DIV/0!
A13: IZDACI | C13: =+C14+C16+C18 -> 0 | D13: =+D14+D16+D18 -> 0 | E13: =+E14+E16+E18 -> 0 | F13: =+F14+F16+F18 -> 0 | G13: =+F13/C13*100 -> #DIV/0! | H13: =+F13/E13*100 -> #DIV/0!
A14: 3 | B14: Vlastiti prihodi | C14: =+C15 -> 0 | D14: =+D15 -> 0 | E14: =+E15 -> 0 | F14: =+F15 -> 0 | G14: =+F14/C14*100 -> #DIV/0! | H14: =+F14/E14*100 -> #DIV/0!
A15: 31 | B15: Vlastiti prihodi | G15: =+F15/C15*100 -> #DIV/0! | H15: =+F15/E15*100 -> #DIV/0!
A16: 4 | B16: Prihodi za posebne namjene | C16: =+C17 -> 0 | D16: =+D17 -> 0 | E16: =+E17 -> 0 | F16: =+F17 -> 0 | G16: =+F16/C16*100 -> #DIV/0! | H16: =+F16/E16*100 -> #DIV/0!
A17: 43 | B17: Ostali prihodi za posebne namjene | G17: =+F17/C17*100 -> #DIV/0! | H17: =+F17/E17*100 -> #DIV/0!
A18: 5 | B18: Pomoći | C18: =+C19 -> 0 | D18: =+D19 -> 0 | E18: =+E19 -> 0 | F18: =+F19 -> 0 | G18: =+F18/C18*100 -> #DIV/0! | H18: =+F18/E18*100 -> #DIV/0!
A19: 52 | B19: Ostale pomoći | G19: =+F19/C19*100 -> #DIV/0! | H19: =+F19/E19*100 -> #DIV/0!

Sheet Posebni dio
A2: BROJČANA OZNAKA PRORAČUNSKOG KORISNIKA: 22857 | B2: NAZIV PRORAČUNSKOG KORISNIKA: SVEUČILIŠTE U RIJECI, FILOZOFSKI FAKULTET | C2: PLAN ZA 2025. | D2: NOVI PLAN 2025. | E2: IZVRŠENJE 2025.
B3: UKUPNO IZVORI | C3: =SUM(C4:C16) -> 10075109 | D3: =SUM(D4:D16) -> 11303929 | E3: =SUM(E4:E16) -> 12346781
A4: 11 | B4: Opći prihodi i primici | C4: 9182508 | D4: 9944534 | E4: 10613046
A5: 12 | B5: Sredstva učešća za pomoći
A6: 31 | B6: Vlastiti prihodi | C6: 44863 | D6: 49825 | E6: 97244.84
A7: 43 | B7: Ostali prihodi za posebne namjene | C7: 246744 | D7: 319620 | E7: 548196.58
A8: 51 | B8: Pomoći EU | C8: 385100 | D8: 365645 | E8: 319498
A9: 52 | B9: Ostale pomoći | C9: 215894 | D9: 532033 | E9: 719291
A10: 61 | B10: Donacije
A11: 561 | B11: Europski socijalni fond (ESF)
A12: 581 | B12: Mehanizam za oporavak i otpornost | D12: 92272 | E12: 49505
A13: 5761 | B13: Fond solidarnosti Europske unije – potres
A14: 563 | B14: Europski fond za regionalni razvoj (ERDF)
A15: 61 | B15: Donacije
A16: 71 | B16: Prihodi od nefin. imovine i nadoknade štete s osnova osig.
B17: UKUPNO AKTIVNOSTI | C17: =C18+C23+C38+C41+C50+C59 -> 10075109 | D17: =D18+D23+D38+D41+D50+D59+D33+D47 -> 11303929 | E17: =E18+E23+E38+E41+E50+E59+E33 -> 12346781
A18: A621002 | B18: REDOVNA DJELATNOST SVEUČILIŠTA U RIJECI | C18: =C19 -> 8702335 | D18: =D19 -> 9442565 | E18: =E19 -> 10153490
A19: 11 | B19: Opći prihodi i primici | C19: =SUM(C20:C22) -> 8702335 | D19: =SUM(D20:D22) -> 9442565 | E19: =SUM(E20:E22) -> 10153490
A20: 31 | B20: Rashodi za zaposlene | C20: 8605881 | D20: 9329368 | E20: 10052536
A21: 32 | B21: Materijalni rashodi | C21: 96454 | D21: 113197 | E21: 100953.62
A22: 38 | B22: Ostali rashodi
A23: A622122 | B23: PROGRAMSKO FINANCIRANJE JAVNIH VISOKIH UČILIŠTA | C23: =C24 -> 439080 | D23: =D24 -> 448534 | E23: =+E24+E33 -> 400173.23
A24: 11 | B24: Opći prihodi i primici | C24: =SUM(C25:C32) -> 439080 | D24: =SUM(D25:D32) -> 448534 | E24: =SUM(E25:E32) -> 350668
A25: 31 | B25: Rashodi za zaposlene | D25: 10000 | E25: 11767
A26: 32 | B26: Materijalni rashodi | C26: 423500 | D26: 422954 | E26: =83947+115472+46232+88235+4992 -> 338878
A27: 34 | B27: Financijski rashodi | C27: 2000 | D27: 2000
A28: 37 | B28: Naknade građanima i kućanstvima na temelju osiguranja i druge naknade
A29: 38 | B29: Ostali rashodi
A30: 41 | B30: Rashodi za nabavu neproizvedene dugotrajne imovine | C30: 10000 | D30: 10000
A31: 42 | B31: Rashodi za nabavu proizvedene dugotrajne imovine | C31: 3580 | D31: 3580 | E31: 23
A32: 45 | B32: Rashodi za dodatna ulaganja na nefinancijskoj imovini
A33: A622122 | B33: PROGRAMSKO FINANCIRANJE JAVNIH VISOKIH UČILIŠTA | C33: =C34 -> 0 | D33: =D34 -> 92272 | E33: =E34 -> 49505.23
A34: 581 | B34: Mehanizam za oporavak i otpornost | D34: =+D35+D36+D37 -> 92272 | E34: =+E35+E36+E37 -> 49505.23
A35: 32 | B35: Materijalni rashodi | D35: 52868 | E35: =14272.78+75+59.9+272.8+416+421.77+75+720.05+52.8+132.78+0.9 -> 16499.78
A36: 41 | B36: Rashodi za nabavu neproizvedene dugotrajne imovine | D36: 2722
A37: 42 | B37: Rashodi za nabavu proizvedene dugotrajne imovine | D37: 36682 | E37: =32910+95.45 -> 33005.45
A38: A621038 | B38: PROGRAMI VJEŽBAONICA VISOKIH UČILIŠTA | C38: =+C39 -> 41093 | D38: =+D39 -> 52392 | E38: =+E39 -> 47557
A39: 11 | B39: Opći prihodi i primici | C39: =C40 -> 41093 | D39: =D40 -> 52392 | E39: =E40 -> 47557
A40: 32 | B40: Materijalni rashodi | C40: 41093 | D40: 52392 | E40: 47557
A41: A621181 | B41: PRAVOMOĆNE SUDSKE PRESUDE | C41: =SUM(C43:C45) -> 0 | D41: =SUM(D43:D45) -> 0 | E41: =SUM(E43:E45) -> 11826.13
A42: 11 | B42: Opći prihodi i primici | C42: =SUM(C43:C45) -> 0 | D42: =SUM(D43:D45) -> 0 | E42: =SUM(E43:E45) -> 11826.13
A43: 31 | B43: Plaće za redovan rad | C43: 0 | D43: 0 | E43: 11826.13
A44: 32 | B44: Doprinosi za obvezno zdravstveno osiguranje
A45: 34 | B45: Doprinosi za obvezno osiguranje u slučaju nezaposlenosti
A46: 32 | B46: Materijalni rashodi
A47: A621183 | B47: STIPENDIJE I ŠKOLARINE ZA DOKTORSKI STUDIJ | C47: =+C48 -> 0 | D47: =+D48 -> 1043 | E47: =+E48 -> 0
A48: 11 | B48: Opći prihodi i primici | C48: =+C49 -> 0 | D48: =+D49 -> 1043 | E48: =+E49 -> 0
A49: 37 | B49: Naknade građanima i kućanstvima na temelju osiguranja i druge naknade | C49: 0 | D49: 1043 | E49: 0
A50: A679072 | B50: EU PROJEKTI SVEUČILIŠTA U RIJECI (IZ EVIDENCIJSKIH PRIHODA) | C50: =SUM(C51) -> 385100 | D50: =+D51+D57 -> 365945 | E50: =SUM(E51) -> 319498.1
A51: 51 | B51: Pomoći EU | C51: =SUM(C52:C56) -> 385100 | D51: =SUM(D52:D56) -> 365645 | E51: =SUM(E52:E56) -> 319498.1
A52: 31 | B52: Rashodi za zaposlene | C52: 224600 | D52: 189645 | E52: 211301.1
A53: 32 | B53: Materijalni rashodi | C53: 150500 | D53: 161000 | E53: 107235
A54: 34 | B54: Financijski rashodi | E54: 12
A55: 41 | B55: Rashodi za nabavu neproizvedene dugotrajne imovine
A56: 42 | B56: Rashodi za nabavu proizvedene dugotrajne imovine | C56: 10000 | D56: 15000 | E56: =993-43 -> 950
A57: 43 | B57: Ostali prihodi za posebne namjene | D57: =+D58 -> 300
A58: 32 | B58: Materijalni rashodi | D58: 300 | E58: 0
A59: A679089 | B59: REDOVNA DJELATNOST SVEUČILIŠTA U RIJECI (IZ EVIDENCIJSKIH PRIHODA) | C59: =C60+C68+C77+C87 -> 507501 | D59: =D60+D68+D77+D87 -> 901178 | E59: =E60+E68+E77+E87 -> 1364732
A60: 31 | B60: Vlastiti prihodi | C60: =SUM(C61:C67) -> 44863 | D60: =SUM(D61:D67) -> 49825 | E60: =SUM(E61:E67) -> 97245
A61: 31 | B61: Rashodi za zaposlene | C61: 24225 | D61: 23060 | E61: =64206-36324 -> 27882
A62: 32 | B62: Materijalni rashodi | C62: 17638 | D62: 13600 | E62: 65261
A63: 34 | B63: Financijski rashodi | E63: 725
A64: 36 | B64: Pomoći dane u inozemstvo i unutar općeg proračuna | D64: 5165 | E64: 1071
A65: 37 | B65: Naknade građanima i kućanstvima na temelju osiguranja i druge naknade | E65: 1022
A66: 38 | B66: Ostali rashodi | E66: 800
A67: 42 | B67: 'Rashodi za nabavu proizvedene dugotrajne imovine | C67: 3000 | D67: 8000 | E67: 484
A68: 43 | B68: Ostali prihodi za posebne namjene | C68: =SUM(C69:C76) -> 246744 | D68: =SUM(D69:D76) -> 319320 | E68: =SUM(E69:E76) -> 548197
A69: 31 | B69: Rashodi za zaposlene | C69: 81985 | D69: =91985-3351-483 -> 88151 | E69: 186288
A70: 32 | B70: Materijalni rashodi | C70: 117176 | D70: 195176 | E70: =398440-64619 -> 333821
A71: 34 | B71: Financijski rashodi | C71: 2000 | D71: 2000 | E71: 5144
A72: 36 | B72: Pomoći dane u inozemstvo i unutar općeg proračuna | C72: 12000 | D72: 8910 | E72: 10418
A73: 37 | B73: Naknade građanima i kućanstvima na temelju osiguranja i druge naknade
A74: 38 | B74: Ostali rashodi | C74: 1500 | D74: 3000 | E74: 2126
A75: 41 | B75: Rashodi za nabavu neproizvedene dugotrajne imovine
A76: 42 | B76: Rashodi za nabavu proizvedene dugotrajne imovine | C76: 32083 | D76: 22083 | E76: 10400
A77: 52 | B77: Ostale pomoći | C77: =SUM(C78:C86) -> 215894 | D77: =SUM(D78:D86) -> 532033 | E77: =SUM(E78:E86) -> 719290
A78: 31 | B78: Rashodi za zaposlene | C78: 55000 | D78: 299539 | E78: 302025
A79: 32 | B79: Materijalni rashodi | C79: 58962 | D79: 130962 | E79: 297308
A80: 34 | B80: Financijski rashodi | E80: 308
A81: 36 | B81: Pomoći dane u inozemstvo i unutar općeg proračuna | C81: 4500 | D81: 0 | E81: 3245
A82: 37 | B82: Naknade građanima i kućanstvima na temelju osiguranja i druge naknade | C82: 87500 | D82: 91500 | E82: 87500
A83: 38 | B83: Ostali rashodi | D83: 100 | E83: 100
A84: 41 | B84: Rashodi za nabavu neproizvedene dugotrajne imovine | E84: 2433
A85: 42 | B85: Rashodi za nabavu proizvedene dugotrajne imovine | C85: 9932 | D85: 9932 | E85: 26371
A86: 45 | B86: Rashodi za dodatna ulaganja na nefinancijskoj imovini
A87: 61 | B87: Donacije | C87: =SUM(C88:C93) -> 0 | D87: =SUM(D88:D93) -> 0 | E87: =SUM(E88:E93) -> 0
A88: 31 | B88: Rashodi za zaposlene
A89: 32 | B89: Materijalni rashodi
A90: 34 | B90: Financijski rashodi
A91: 41 | B91: Rashodi za nabavu neproizvedene dugotrajne imovine
A92: 42 | B92: Rashodi za nabavu proizvedene dugotrajne imovine
A93: 45 | B93: Rashodi za dodatna ulaganja na nefinancijskoj imovini
